BEGIN:VCALENDAR
VERSION:2.0
PRODID:-//wp-events-plugin.com//7.2.3.1//EN
TZID:Europe/Berlin
X-WR-TIMEZONE:Europe/Berlin
BEGIN:VEVENT
UID:1320@hiig.de
DTSTART;TZID=Europe/Berlin:20240809T160000
DTEND;TZID=Europe/Berlin:20240809T180000
DTSTAMP:20240806T110258Z
URL:https://www.hiig.de/events/zustimmen-oder-ablehnen-personalisierte-wer
 bung-und-inhalte-im-internet/
SUMMARY:Zustimmen oder ablehnen? Personalisierte Werbung und Inhalte im Int
 ernet
DESCRIPTION:In diesem Bürger*innenworkshop geht es um Ihre Wahrnehmung von
  und Meinung zu personalisierter Werbung und Inhalte im Internet.
ATTACH;FMTTYPE=image/jpeg:https://www.hiig.de/wp-content/uploads/2024/07/W
 ebsite-Event-in-Rio_240718-–-1.png
LOCATION:Humboldt Institut für Internet und Gesellschaft\, Französische S
 traße 9\, Berlin\, 10117\, Deutschland
X-APPLE-STRUCTURED-LOCATION;VALUE=URI;X-ADDRESS=Französische Straße 9\, B
 erlin\, 10117\, Deutschland;X-APPLE-RADIUS=100;X-TITLE=Humboldt Institut f
 ür Internet und Gesellschaft:geo:0,0
END:VEVENT
BEGIN:VTIMEZONE
TZID:Europe/Berlin
X-LIC-LOCATION:Europe/Berlin
BEGIN:DAYLIGHT
DTSTART:20240331T030000
TZOFFSETFROM:+0100
TZOFFSETTO:+0200
TZNAME:CEST
END:DAYLIGHT
END:VTIMEZONE
END:VCALENDAR