BEGIN:VCALENDAR
VERSION:2.0
PRODID:-//wp-events-plugin.com//7.2.3.1//EN
TZID:Europe/Berlin
X-WR-TIMEZONE:Europe/Berlin
BEGIN:VEVENT
UID:1356@hiig.de
DTSTART;TZID=Europe/Berlin:20241210T120000
DTEND;TZID=Europe/Berlin:20241210T180000
DTSTAMP:20241118T105923Z
URL:https://www.hiig.de/events/xviii-interdisziplinaerer-workshop-privacy-
 datenschutz-surveillance/
SUMMARY:XVIII. Interdisziplinärer Workshop »Privacy\, Datenschutz & Surve
 illance«
DESCRIPTION:Im Workshop wird über aktuelle Forschungsarbeiten aus dem Fors
 chungsfeld Privacy\, Surveillance und Datenschutz diskutiert.
ATTACH;FMTTYPE=image/jpeg:https://www.hiig.de/wp-content/uploads/2024/04/p
 hoto-data.jpeg
LOCATION:Humboldt Institut für Internet und Gesellschaft\, Französische S
 traße 9\, Berlin\, 10117\, Deutschland
X-APPLE-STRUCTURED-LOCATION;VALUE=URI;X-ADDRESS=Französische Straße 9\, B
 erlin\, 10117\, Deutschland;X-APPLE-RADIUS=100;X-TITLE=Humboldt Institut f
 ür Internet und Gesellschaft:geo:0,0
END:VEVENT
BEGIN:VTIMEZONE
TZID:Europe/Berlin
X-LIC-LOCATION:Europe/Berlin
BEGIN:STANDARD
DTSTART:20241027T020000
TZOFFSETFROM:+0200
TZOFFSETTO:+0100
TZNAME:CET
END:STANDARD
END:VTIMEZONE
END:VCALENDAR