BEGIN:VCALENDAR
VERSION:2.0
PRODID:-//wp-events-plugin.com//7.2.3.1//EN
TZID:Europe/Berlin
X-WR-TIMEZONE:Europe/Berlin
BEGIN:VEVENT
UID:405@hiig.de
DTSTART;TZID=Europe/Berlin:20170328T193000
DTEND;TZID=Europe/Berlin:20170329T210000
DTSTAMP:20231220T110940Z
URL:https://www.hiig.de/events/x-vom-gelingen-und-scheitern-von-zukunftspr
 ojekten-mit-obi-felten/
SUMMARY:X – Vom Gelingen und Scheitern von Zukunftsprojekten mit Obi Felt
 en
DESCRIPTION:To the moon! Wie steht es in Europa und insbesondere in Deutsc
 hland um die Innovationsfreude?\n\n\n\n&nbsp\;\n\nObi Felten\, Head of get
 ting moonshots ready for contact with the real world bei X\, der Moonshot-
 Fabrik von Alphabet\, arbeitet an innovativen Lösungen für die größten
  Herausforderungen unserer Zeit und macht „Moonshots ready for contact w
 ith the real world“. Sie ist dafür verantwortlich\, X-Projekte aus dem 
 Labor entweder in die Welt zu bringen oder sicherzustellen\, dass sie schn
 ell scheitern. Es geht darum\, mit neuen Technologien in einem absehbaren 
 Zeitraum Lösungen von Problemen zu finden\, die Menschen weltweit betreff
 en.\n\nX – Vom Gelingen und Scheitern von Zukunftsprojekten\nmit Obi Fel
 ten\n28.03.2017 | 19.30 Uhr | Einstein Saal in der ​Berlin-Brandenburgis
 chen Akademie der Wissenschaften | Jägerstraße 23 | 10117 Berlin\n\nX re
 präsentiert\, was Europäer so sehr an Silicon Valley fasziniert – Inno
 vationsgeist\, Mut und Dynamik. Im Gespräch mit Markus Klimmer\, Autor de
 s Buches „#Digital Leadership – Wie Top-Manager in Deutschland den Wan
 del gestalten“\, soll es auch darum gehen\, wie es in Europa und insbeso
 ndere in Deutschland um die Innovationsfreude steht.\n\nAlison Smale\, Che
 fkorrespondentin der New York Times in Berlin\, wird das Gespräch moderie
 ren. Der Eintritt ist frei. Eine Anmeldung ist nicht erforderlich.\n\n„X
  – Vom Gelingen und Scheitern von Zukunftsprojekten“ ist eine Veransta
 ltung des Villa Aurora &amp\; Thomas Mann House e.V. in Zusammenarbeit mit
  dem Alexander von Humboldt Institut für Internet und Gesellschaft (HIIG)
 .
CATEGORIES:Events vor 2018 ohne Titelbild,Themen im Fokus
LOCATION:Berlin-Brandenburgische Akademie der Wissenschaften | Einstein-Saa
 l\, Jägerstraße 22-23\, Berlin\, Deutschland
X-APPLE-STRUCTURED-LOCATION;VALUE=URI;X-ADDRESS=Jägerstraße 22-23\, Berli
 n\, Deutschland;X-APPLE-RADIUS=100;X-TITLE=Berlin-Brandenburgische Akademi
 e der Wissenschaften | Einstein-Saal:geo:0,0
END:VEVENT
BEGIN:VTIMEZONE
TZID:Europe/Berlin
X-LIC-LOCATION:Europe/Berlin
BEGIN:DAYLIGHT
DTSTART:20170326T030000
TZOFFSETFROM:+0100
TZOFFSETTO:+0200
TZNAME:CEST
END:DAYLIGHT
END:VTIMEZONE
END:VCALENDAR