BEGIN:VCALENDAR
VERSION:2.0
PRODID:-//wp-events-plugin.com//7.2.3.1//EN
TZID:Europe/Berlin
X-WR-TIMEZONE:Europe/Berlin
BEGIN:VEVENT
UID:1504@hiig.de
DTSTART;TZID=Europe/Berlin:20260317T160000
DTEND;TZID=Europe/Berlin:20260317T180000
DTSTAMP:20260311T164252Z
URL:https://www.hiig.de/events/workshop-werbung-personalisierung/
SUMMARY:Entdecke\, wie personalisierte Werbung funktioniert
DESCRIPTION:Im Workshop wird erarbeitet\, wie junge Menschen Kenntnisse üb
 er die Personalisierung von Werbung im Internet spielerisch vermittelt wer
 den können.\n
ATTACH;FMTTYPE=image/jpeg:https://www.hiig.de/wp-content/uploads/2026/03/W
 orkshop-SiD.png
LOCATION:Humboldt Institut für Internet und Gesellschaft\, Französische S
 traße 9\, Berlin\, 10117\, Deutschland
X-APPLE-STRUCTURED-LOCATION;VALUE=URI;X-ADDRESS=Französische Straße 9\, B
 erlin\, 10117\, Deutschland;X-APPLE-RADIUS=100;X-TITLE=Humboldt Institut f
 ür Internet und Gesellschaft:geo:0,0
END:VEVENT
BEGIN:VTIMEZONE
TZID:Europe/Berlin
X-LIC-LOCATION:Europe/Berlin
BEGIN:STANDARD
DTSTART:20251026T020000
TZOFFSETFROM:+0200
TZOFFSETTO:+0100
TZNAME:CET
END:STANDARD
END:VTIMEZONE
END:VCALENDAR