BEGIN:VCALENDAR
VERSION:2.0
PRODID:-//wp-events-plugin.com//7.2.3.1//EN
TZID:Europe/Berlin
X-WR-TIMEZONE:Europe/Berlin
BEGIN:VEVENT
UID:1041@hiig.de
DTSTART;TZID=Europe/Berlin:20221104T140000
DTEND;TZID=Europe/Berlin:20221104T183000
DTSTAMP:20230717T143439Z
URL:https://www.hiig.de/events/workshop-making-sense-of-the-future/
SUMMARY:Workshop: Making Sense of the Future
DESCRIPTION:In Kooperation mit bpb lädt das HIIG dazu ein\, den neuen met
 hodischen Werkzeugkasten Making Sense of the Future auszuprobieren.
ATTACH;FMTTYPE=image/jpeg:https://www.hiig.de/wp-content/uploads/2022/09/m
 ail_banner_Futures_OER.png
LOCATION:Humboldt Institut für Internet und Gesellschaft\, Französische S
 traße 9\, Berlin\, 10117\, Deutschland
X-APPLE-STRUCTURED-LOCATION;VALUE=URI;X-ADDRESS=Französische Straße 9\, B
 erlin\, 10117\, Deutschland;X-APPLE-RADIUS=100;X-TITLE=Humboldt Institut f
 ür Internet und Gesellschaft:geo:0,0
END:VEVENT
BEGIN:VTIMEZONE
TZID:Europe/Berlin
X-LIC-LOCATION:Europe/Berlin
BEGIN:STANDARD
DTSTART:20221030T020000
TZOFFSETFROM:+0200
TZOFFSETTO:+0100
TZNAME:CET
END:STANDARD
END:VTIMEZONE
END:VCALENDAR