BEGIN:VCALENDAR
VERSION:2.0
PRODID:-//wp-events-plugin.com//7.2.3.1//EN
TZID:Europe/Berlin
X-WR-TIMEZONE:Europe/Berlin
BEGIN:VEVENT
UID:209@hiig.de
DTSTART;TZID=Europe/Berlin:20150519T180000
DTEND;TZID=Europe/Berlin:20150519T193000
DTSTAMP:20231220T145811Z
URL:https://www.hiig.de/events/werkstattgesprach-mit-wilfried-bernhardt/
SUMMARY:Werkstattgespräch mit Wilfried Bernhardt
DESCRIPTION:\ne-justice: Potentiale und Risiken des digitalen Zugangs zum R
 echt und der Digitalisierung der Justiz\nWilfried Bernhardt\, ehem. Staat
 ssekretär für Justiz und IT\, Sachsen\nDienstag 19.05.2015 ab 18:00 Uhr 
 s.t.\n\nEinführende Literatur\n\n\n\nZur Publikation\nRechtliche Rahmenbe
 dingungen des Einsatzes standardisierter\nInformationstechnik der Bundes
 - und Landesverwaltungen in\nder Justiz "Welches Maß an IT-Zentralisieru
 ng verträgt die Dritte Gewalt?"Positionspapier der Arbeitsgruppe „Zuku
 nft“ der Bund-Länder-Kommission für Datenverarbeitung und Rationali
 sierung in der Justiz\n\n\nZur Publikation\nRichterliche Unabhängigkeit u
 nd elektronische Akte\nUwe Berlit\n\n\n\nDas Kolloquium soll auf der Basis
  einer Einführung in die Funktionsweise des Internets Einblick in die wic
 htigsten Rechtsgebiete und aktuellen Rechtsfragen zum Internet bieten Ausg
 ewählte Experten aus Wissenschaft und Praxis werden in einem Vortrag das 
 jeweilige Thema aus ihrem Blickwinkel beleuchten\, um damit eine Grundlage
  für die Diskussion zu geben. Für einzelne Themen wird relevante einfüh
 rende Literatur im Voraus elektronisch zur Verfügung gestellt. Auf dieser
  Basis sollen sich die Teilnehmer zu jedem Termin vorbereiten\, so dass ei
 ne intensive Diskussion möglich wird. Ein thematisches Protokoll wird im 
 Anschluss an jede Sitzung erstellt und den Teilnehmern als Erinnerungsstü
 tze zugänglich gemacht.\n\nDas als Schwerpunktveranstaltung an der jurist
 ischen Fakultät angebotene Kolloquium ist auch für die Fachöffentlichke
 it geöffnet. Prof. Ingolf Pernice bietet dieses gemeinsam mit Dr. Wilfrie
 d Bernhardt an\, der viele Jahre im BMJ und bis 2014 als Staatssekretär i
 m Justiz- und Europaministerium Sachsens für Fragen von e-government und 
 e-justice zuständig war\, im IT-Planungsrat mitgewirkt und die deutsche S
 timme zur Digitalen Agenda der EU mit geprägt hat.\n\nDer Kurs wird als E
 inheit angeboten\; die Teilnahme am gesamten Zyklus ist wegen der Gruppend
 ynamik erwünscht\, aber nicht zwingend. Interessenten werden gebeten\, si
 ch hier verbindlich anzumelden.
CATEGORIES:Events vor 2018 ohne Titelbild,Exploring Digital Spheres
LOCATION:Raum 213\, Juristische Fakultät\, HU Berlin\, Unter den Linden 9\
 , Berlin\, 10117\, Deutschland
X-APPLE-STRUCTURED-LOCATION;VALUE=URI;X-ADDRESS=Unter den Linden 9\, Berlin
 \, 10117\, Deutschland;X-APPLE-RADIUS=100;X-TITLE=Raum 213\, Juristische F
 akultät\, HU Berlin:geo:0,0
END:VEVENT
BEGIN:VTIMEZONE
TZID:Europe/Berlin
X-LIC-LOCATION:Europe/Berlin
BEGIN:DAYLIGHT
DTSTART:20150329T030000
TZOFFSETFROM:+0100
TZOFFSETTO:+0200
TZNAME:CEST
END:DAYLIGHT
END:VTIMEZONE
END:VCALENDAR