BEGIN:VCALENDAR
VERSION:2.0
PRODID:-//wp-events-plugin.com//7.2.3.1//EN
TZID:Europe/Berlin
X-WR-TIMEZONE:Europe/Berlin
BEGIN:VEVENT
UID:211@hiig.de
DTSTART;TZID=Europe/Berlin:20150414T180000
DTEND;TZID=Europe/Berlin:20150414T193000
DTSTAMP:20231220T105721Z
URL:https://www.hiig.de/events/werkstattgesprach-mit-paul-nemitz/
SUMMARY:Werkstattgespräch mit Paul Nemitz
DESCRIPTION:\nVorratsdatenspeicherung\, das Google-Urteil des EuGH und die 
 Reform des Datenschutzes in Europa\nPaul Nemitz\, Europäische Kommission
  DG Justice\, zuständig für Datenschutz\nDienstag 14.04.2015 ab 18:00 U
 hr s.t.\nDas Kolloquium soll auf der Basis einer Einführung in die Funkti
 onsweise des Internets Einblick in die wichtigsten Rechtsgebiete und aktue
 llen Rechtsfragen zum Internet bieten Ausgewählte Experten aus Wissenscha
 ft und Praxis werden in einem Vortrag das jeweilige Thema aus ihrem Blickw
 inkel beleuchten\, um damit eine Grundlage für die Diskussion zu geben. F
 ür einzelne Themen wird relevante einführende Literatur im Voraus elektr
 onisch zur Verfügung gestellt. Auf dieser Basis sollen sich die Teilnehme
 r zu jedem Termin vorbereiten\, so dass eine intensive Diskussion möglich
  wird. Ein thematisches Protokoll wird im Anschluss an jede Sitzung erstel
 lt und den Teilnehmern als Erinnerungsstütze zugänglich gemacht.\nEinfü
 hrende Literatur\n\n\n\n&nbsp\; Zum Artikel\nWider die Mär vom Grundrecht
 sblinden: Der EuGH und die Vorratsdatenspeicherung\nMattias Wendel\n\n\n\n
 Zur Reihe\nDas als Schwerpunktveranstaltung an der juristischen Fakultät 
 angebotene Kolloquium ist auch für die Fachöffentlichkeit geöffnet. Pro
 f. Ingolf Pernice bietet dieses gemeinsam mit Dr. Wilfried Bernhardt an\, 
 der viele Jahre im BMJ und bis 2014 als Staatssekretär im Justiz- und Eur
 opaministerium Sachsens für Fragen von e-government und e-justice zustän
 dig war\, im IT-Planungsrat mitgewirkt und die deutsche Stimme zur Digital
 en Agenda der EU mit geprägt hat.\n\nDer Kurs wird als Einheit angeboten\
 ; die Teilnahme am gesamten Zyklus ist wegen der Gruppendynamik erwünscht
 \, aber nicht zwingend. Interessenten werden gebeten\, sich hier verbindli
 ch anzumelden.
CATEGORIES:Exploring Digital Spheres
LOCATION:Raum 213\, Juristische Fakultät\, HU Berlin\, Unter den Linden 9\
 , Berlin\, 10117\, Deutschland
X-APPLE-STRUCTURED-LOCATION;VALUE=URI;X-ADDRESS=Unter den Linden 9\, Berlin
 \, 10117\, Deutschland;X-APPLE-RADIUS=100;X-TITLE=Raum 213\, Juristische F
 akultät\, HU Berlin:geo:0,0
END:VEVENT
BEGIN:VTIMEZONE
TZID:Europe/Berlin
X-LIC-LOCATION:Europe/Berlin
BEGIN:DAYLIGHT
DTSTART:20150329T030000
TZOFFSETFROM:+0100
TZOFFSETTO:+0200
TZNAME:CEST
END:DAYLIGHT
END:VTIMEZONE
END:VCALENDAR