BEGIN:VCALENDAR
VERSION:2.0
PRODID:-//wp-events-plugin.com//7.2.3.1//EN
TZID:Europe/Berlin
X-WR-TIMEZONE:Europe/Berlin
BEGIN:VEVENT
UID:214@hiig.de
DTSTART;TZID=Europe/Berlin:20150623T180000
DTEND;TZID=Europe/Berlin:20150623T193000
DTSTAMP:20231220T145806Z
URL:https://www.hiig.de/events/werkstattgesprach-mit-cornelia-rogall-groth
 e/
SUMMARY:Werkstattgespräch mit Cornelia Rogall-Grothe
DESCRIPTION:\nDer IT Planungsrat und die Digitalisierung von Staat und Verw
 altung in Deutschland und Europa\nCornelia Rogall-Grothe\, Staatssekretär
 in im Bundesministerium des Innern\nDienstag 23.06.2015 ab 18:00 Uhr s.t.\
 nDas Kolloquium soll auf der Basis einer Einführung in die Funktionsweise
  des Internets Einblick in die wichtigsten Rechtsgebiete und aktuellen Rec
 htsfragen zum Internet bieten Ausgewählte Experten aus Wissenschaft und P
 raxis werden in einem Vortrag das jeweilige Thema aus ihrem Blickwinkel be
 leuchten\, um damit eine Grundlage für die Diskussion zu geben. Für einz
 elne Themen wird relevante einführende Literatur im Voraus elektronisch z
 ur Verfügung gestellt. Auf dieser Basis sollen sich die Teilnehmer zu jed
 em Termin vorbereiten\, so dass eine intensive Diskussion möglich wird. E
 in thematisches Protokoll wird im Anschluss an jede Sitzung erstellt und d
 en Teilnehmern als Erinnerungsstütze zugänglich gemacht.\n\nDas als Schw
 erpunktveranstaltung an der juristischen Fakultät angebotene Kolloquium i
 st auch für die Fachöffentlichkeit geöffnet. Prof. Ingolf Pernice biete
 t dieses gemeinsam mit Dr. Wilfried Bernhardt an\, der viele Jahre im BMJ 
 und bis 2014 als Staatssekretär im Justiz- und Europaministerium Sachsens
  für Fragen von e-government und e-justice zuständig war\, im IT-Planung
 srat mitgewirkt und die deutsche Stimme zur Digitalen Agenda der EU mit ge
 prägt hat.\n\nDer Kurs wird als Einheit angeboten\; die Teilnahme am gesa
 mten Zyklus ist wegen der Gruppendynamik erwünscht\, aber nicht zwingend.
  Interessenten werden gebeten\, sich hier verbindlich anzumelden.
CATEGORIES:Events vor 2018 ohne Titelbild,Exploring Digital Spheres
LOCATION:Raum 213\, Juristische Fakultät\, HU Berlin\, Unter den Linden 9\
 , Berlin\, 10117\, Deutschland
X-APPLE-STRUCTURED-LOCATION;VALUE=URI;X-ADDRESS=Unter den Linden 9\, Berlin
 \, 10117\, Deutschland;X-APPLE-RADIUS=100;X-TITLE=Raum 213\, Juristische F
 akultät\, HU Berlin:geo:0,0
END:VEVENT
BEGIN:VTIMEZONE
TZID:Europe/Berlin
X-LIC-LOCATION:Europe/Berlin
BEGIN:DAYLIGHT
DTSTART:20150329T030000
TZOFFSETFROM:+0100
TZOFFSETTO:+0200
TZNAME:CEST
END:DAYLIGHT
END:VTIMEZONE
END:VCALENDAR