BEGIN:VCALENDAR
VERSION:2.0
PRODID:-//wp-events-plugin.com//7.2.3.1//EN
TZID:Europe/Berlin
X-WR-TIMEZONE:Europe/Berlin
BEGIN:VEVENT
UID:215@hiig.de
DTSTART;TZID=Europe/Berlin:20150630T180000
DTEND;TZID=Europe/Berlin:20150630T193000
DTSTAMP:20231220T145754Z
URL:https://www.hiig.de/events/werkstattgesprach-mit-berthold-huber/
SUMMARY:Werkstattgespräch mit Bertold Huber
DESCRIPTION:\nÜberwachung der Überwacher: Auftrag und Grenzen der Möglic
 hkeiten des Parlamentarischer Kontrollgremiums und der G10-Kommission\nBer
 told Huber\, Vors. Richter am VG a.D.\, Frankfurt a. M.\, Stellv. Vors. de
 r G10-Kommission des 18. Deutschen Bundestages Dienstag 30.06.2015 ab 18:0
 0 Uhr s.t.\nDas Kolloquium soll auf der Basis einer Einführung in die Fun
 ktionsweise des Internets Einblick in die wichtigsten Rechtsgebiete und ak
 tuellen Rechtsfragen zum Internet bieten Ausgewählte Experten aus Wissens
 chaft und Praxis werden in einem Vortrag das jeweilige Thema aus ihrem Bli
 ckwinkel beleuchten\, um damit eine Grundlage für die Diskussion zu geben
 . Für einzelne Themen wird relevante einführende Literatur im Voraus ele
 ktronisch zur Verfügung gestellt. Auf dieser Basis sollen sich die Teilne
 hmer zu jedem Termin vorbereiten\, so dass eine intensive Diskussion mögl
 ich wird. Ein thematisches Protokoll wird im Anschluss an jede Sitzung ers
 tellt und den Teilnehmern als Erinnerungsstütze zugänglich gemacht. Das 
 als Schwerpunktveranstaltung an der juristischen Fakultät angebotene Koll
 oquium ist auch für die Fachöffentlichkeit geöffnet. Prof. Ingolf Perni
 ce bietet dieses gemeinsam mit Dr. Wilfried Bernhardt an\, der viele Jahre
  im BMJ und bis 2014 als Staatssekretär im Justiz- und Europaministerium 
 Sachsens für Fragen von e-government und e-justice zuständig war\, im IT
 -Planungsrat mitgewirkt und die deutsche Stimme zur Digitalen Agenda der E
 U mit geprägt hat. Der Kurs wird als Einheit angeboten\; die Teilnahme am
  gesamten Zyklus ist wegen der Gruppendynamik erwünscht\, aber nicht zwin
 gend. Interessenten werden gebeten\, sich hier verbindlich anzumelden.
CATEGORIES:Events vor 2018 ohne Titelbild,Exploring Digital Spheres
LOCATION:Raum 213\, Juristische Fakultät\, HU Berlin\, Unter den Linden 9\
 , Berlin\, 10117\, Deutschland
X-APPLE-STRUCTURED-LOCATION;VALUE=URI;X-ADDRESS=Unter den Linden 9\, Berlin
 \, 10117\, Deutschland;X-APPLE-RADIUS=100;X-TITLE=Raum 213\, Juristische F
 akultät\, HU Berlin:geo:0,0
END:VEVENT
BEGIN:VTIMEZONE
TZID:Europe/Berlin
X-LIC-LOCATION:Europe/Berlin
BEGIN:DAYLIGHT
DTSTART:20150329T030000
TZOFFSETFROM:+0100
TZOFFSETTO:+0200
TZNAME:CEST
END:DAYLIGHT
END:VTIMEZONE
END:VCALENDAR