BEGIN:VCALENDAR
VERSION:2.0
PRODID:-//wp-events-plugin.com//7.2.3.1//EN
TZID:Europe/Berlin
X-WR-TIMEZONE:Europe/Berlin
BEGIN:VEVENT
UID:204@hiig.de
DTSTART;TZID=Europe/Berlin:20150616T180000
DTEND;TZID=Europe/Berlin:20150616T193000
DTSTAMP:20231220T145806Z
URL:https://www.hiig.de/events/werkstattgesprach-entwicklung-funktionsweis
 e-und-vertrauenswurdigkeit-des-internets/
SUMMARY:Werkstattgespräch mit Björn Scheuermann
DESCRIPTION:\nEntwicklung\, Funktionsweise und Vertrauenswürdigkeit des In
 ternets\nBjörn Scheuermann\, Humboldt Universität\, Lehrstuhl für techn
 ische Informatik\nDienstag 14.04.2015 ab 18:00 Uhr s.t.\nDas Kolloquium so
 ll auf der Basis einer Einführung in die Funktionsweise des Internets Ein
 blick in die wichtigsten Rechtsgebiete und aktuellen Rechtsfragen zum Inte
 rnet bieten Ausgewählte Experten aus Wissenschaft und Praxis werden in ei
 nem Vortrag das jeweilige Thema aus ihrem Blickwinkel beleuchten\, um dami
 t eine Grundlage für die Diskussion zu geben. Für einzelne Themen wird r
 elevante einführende Literatur im Voraus elektronisch zur Verfügung gest
 ellt. Auf dieser Basis sollen sich die Teilnehmer zu jedem Termin vorberei
 ten\, so dass eine intensive Diskussion möglich wird. Ein thematisches Pr
 otokoll wird im Anschluss an jede Sitzung erstellt und den Teilnehmern als
  Erinnerungsstütze zugänglich gemacht.\nEinführende Literatur\n\n\n\n 
  Zum Buch\nComputer Networking: A Top-Down Approach\, 6/E\nJames F. Kurose
 \, University of Massachusetts\, Amherst\nKeith W. Ross\, Polytechnic Univ
 ersity\, Brooklyn\n\n\n\nZur Reihe\nDas als Schwerpunktveranstaltung an de
 r juristischen Fakultät angebotene Kolloquium ist auch für die Fachöffe
 ntlichkeit geöffnet. Prof. Ingolf Pernice bietet dieses gemeinsam mit Dr.
  Wilfried Bernhardt an\, der viele Jahre im BMJ und bis 2014 als Staatssek
 retär im Justiz- und Europaministerium Sachsens für Fragen von e-governm
 ent und e-justice zuständig war\, im IT-Planungsrat mitgewirkt und die de
 utsche Stimme zur Digitalen Agenda der EU mit geprägt hat.\n\nDer Kurs wi
 rd als Einheit angeboten\; die Teilnahme am gesamten Zyklus ist wegen der 
 Gruppendynamik erwünscht\, aber nicht zwingend. Interessenten werden gebe
 ten\, sich hier verbindlich anzumelden.
CATEGORIES:Events vor 2018 ohne Titelbild,Exploring Digital Spheres
LOCATION:Raum 213\, Juristische Fakultät\, HU Berlin\, Unter den Linden 9\
 , Berlin\, 10117\, Deutschland
X-APPLE-STRUCTURED-LOCATION;VALUE=URI;X-ADDRESS=Unter den Linden 9\, Berlin
 \, 10117\, Deutschland;X-APPLE-RADIUS=100;X-TITLE=Raum 213\, Juristische F
 akultät\, HU Berlin:geo:0,0
END:VEVENT
BEGIN:VTIMEZONE
TZID:Europe/Berlin
X-LIC-LOCATION:Europe/Berlin
BEGIN:DAYLIGHT
DTSTART:20150329T030000
TZOFFSETFROM:+0100
TZOFFSETTO:+0200
TZNAME:CEST
END:DAYLIGHT
END:VTIMEZONE
END:VCALENDAR