BEGIN:VCALENDAR
VERSION:2.0
PRODID:-//wp-events-plugin.com//7.2.3.1//EN
TZID:Europe/Berlin
X-WR-TIMEZONE:Europe/Berlin
BEGIN:VEVENT
UID:790@hiig.de
DTSTART;TZID=Europe/Berlin:20200519T060000
DTEND;TZID=Europe/Berlin:20200519T070000
DTSTAMP:20200519T171021Z
URL:https://www.hiig.de/events/twentyforty-talks-auf-einen-drink-mit-burkh
 ard-schafer/
SUMMARY:twentyforty talks - Auf einen Drink mit Burkhard Schafer
DESCRIPTION:Im Gespräch mit Bronwen Deacon (HIIG) wird Burkhard Schafer se
 ine Utopie zwischen ZombAI-Apokalypse und digitaler Unsterblichkeit näher
  erklären.
ATTACH;FMTTYPE=image/jpeg:https://www.hiig.de/wp-content/uploads/2020/04/l
 ayout-eventpage.jpg
CATEGORIES:Exploring Digital Spheres
LOCATION:Humboldt Institut für Internet und Gesellschaft\, Französische S
 traße 9\, Berlin\, 10117\, Deutschland
X-APPLE-STRUCTURED-LOCATION;VALUE=URI;X-ADDRESS=Französische Straße 9\, B
 erlin\, 10117\, Deutschland;X-APPLE-RADIUS=100;X-TITLE=Humboldt Institut f
 ür Internet und Gesellschaft:geo:0,0
END:VEVENT
BEGIN:VTIMEZONE
TZID:Europe/Berlin
X-LIC-LOCATION:Europe/Berlin
BEGIN:DAYLIGHT
DTSTART:20200329T030000
TZOFFSETFROM:+0100
TZOFFSETTO:+0200
TZNAME:CEST
END:DAYLIGHT
END:VTIMEZONE
END:VCALENDAR