BEGIN:VCALENDAR
VERSION:2.0
PRODID:-//wp-events-plugin.com//7.2.3.1//EN
TZID:Europe/Berlin
X-WR-TIMEZONE:Europe/Berlin
BEGIN:VEVENT
UID:467@hiig.de
DTSTART;TZID=Europe/Berlin:20170927T130000
DTEND;TZID=Europe/Berlin:20170927T140000
DTSTAMP:20231220T110848Z
URL:https://www.hiig.de/events/translating-critical-perspectives-on-techno
 logy-lunch-talk-mit-zara-rahman/
SUMMARY:Translating critical perspectives on technology – Lunch Talk mit 
 Zara Rahman
DESCRIPTION:Am 27. September findet ein öffentlicher Brown-bag Lunch in de
 r Küche des Instituts statt. Zara Rahman wird über kritische Technologie
 - und Datenforschung referieren. Die Veranstaltung findet auf Englisch sta
 tt\, weitere Informationen und die Möglichkeit zur Anmeldung untenstehend
 .\nO P E N    B R O W N - B A G   L U N C H\nLunch talk with Zara Rahm
 an: Translating critical perspectives on technology to wider audiences\nWe
 dnesday\, 27 September 2017 · 1pm · HIIG Kitchen\nTechnology and data ar
 e affecting many facets of every day life for billions of people around th
 e world. In response to this\, over the past years\, academic and research
  communities have developed ways of thinking critically about technology a
 nd data. But who benefits from these findings\, and this research? Beyond 
 the academy\, are there ways that we could increase the accessibility and 
 relevance of our research in the real world\, for real-world benefit?\n\nZ
 ara Rahman will talk about the importance of building bridges between civi
 l society and researchers thinking critically about technology and data\, 
 informed by her year's research as a fellow at the Data &amp\; Society Res
 earch Institute in New York City\, and her professional background working
  with non profits to help them use technology and data more effectively\, 
 responsibly and strategically\, most recently at international non-profit 
 organisation The Engine Room.\n\nThe lunch talk is open to the public\, pl
 ease register in advance via brownbag@hiig.de.
CATEGORIES:Events vor 2018 ohne Titelbild,Exploring Digital Spheres
LOCATION:Humboldt Institut für Internet und Gesellschaft\, Französische S
 traße 9\, Berlin\, 10117\, Deutschland
X-APPLE-STRUCTURED-LOCATION;VALUE=URI;X-ADDRESS=Französische Straße 9\, B
 erlin\, 10117\, Deutschland;X-APPLE-RADIUS=100;X-TITLE=Humboldt Institut f
 ür Internet und Gesellschaft:geo:0,0
END:VEVENT
BEGIN:VTIMEZONE
TZID:Europe/Berlin
X-LIC-LOCATION:Europe/Berlin
BEGIN:DAYLIGHT
DTSTART:20170326T030000
TZOFFSETFROM:+0100
TZOFFSETTO:+0200
TZNAME:CEST
END:DAYLIGHT
END:VTIMEZONE
END:VCALENDAR