BEGIN:VCALENDAR
VERSION:2.0
PRODID:-//wp-events-plugin.com//7.2.3.1//EN
TZID:Europe/Berlin
X-WR-TIMEZONE:Europe/Berlin
BEGIN:VEVENT
UID:491@hiig.de
DTSTART;TZID=Europe/Berlin;VALUE=DATE:20171106
DTEND;TZID=Europe/Berlin;VALUE=DATE:20171108
DTSTAMP:20231220T110823Z
URL:https://www.hiig.de/events/transatlantic-conference-privacy-and-cyber-
 security-on-the-books-and-on-the-ground/
SUMMARY:Privacy and Cyber Security on the Books and on the Ground | Transat
 lantische Konferenz
DESCRIPTION:Das Alexander von Humboldt Institut für Internet und Gesellsch
 aft (HIIG) organisierte – in Zusammenarbeit mit der New York University 
 (NYU) – am 6. und 7. November 2017 die erste von zwei Konferenzen zum Th
 ema „Privacy and Cyber Security on the Books and on the Ground“. \n\n
 &nbsp\;\nTransatlantic Conference | Privacy and Cyber Security on the Book
 s and on the Ground\n6–7 November 2017\nHIIG Casino | Französische Str.
  9 | 10117 Berlin\nWeiterlesen: Sammelband\n&nbsp\;\n\nDie Konferenzen adr
 essieren eine zentrale und zugleich hochgradig aktuelle Herausforderung in
  den transatlantischen Beziehungen: das Spannungsverhältnis zwischen Cybe
 rsicherheit und Datenschutz. Wir bringen Expertinnen und Experten zu Cyber
 sicherheit\, Datenschutz und Governance\, Juristinnen und Juristen sowie V
 ertreterinnen und Vertreter von Sicherheitsbehörden\, Wirtschaft und Poli
 tik an einen Tisch\, um die Probleme in diesem Feld zu analysieren\, das V
 erständnis für unterschiedliche Konzepte zu vertiefen sowie Lösungsans
 ätze und -strategien zu entwickeln\, und dabei zugleich eine produktivere
  Einbindung der jeweils relativ eigenständigen Diskurse in den USA und in
  Europa zu diesem Themenbereich sicherzustellen.\n\n| Weitere Informatione
 n im Sammelband zur Konferenz (pdf)\n\n&nbsp\;\n\nAgenda\nMonday\, 6 Novem
 ber 2017\n\n\n\n01:00 p.m.\nWelcome Address: Ingolf Pernice (Humboldt-Uni
 versität zu Berlin\; HIIG)\n\n\n01:15 p.m.\nIntroduction: U.S. and Europ
 ean Cyber Security and Privacy Politics and Strategies – The Challenges 
 Ahead\nZachary K. Goldman (NYU Center on Law &amp\; Security)\nPaul Nemitz
  (EU Commission)\n\n\n01:45 p.m.\nKeynote: Cyber Security and Data Protec
 tion – Friends or Foes?\nMichael Waidner (Technical University Darmstadt
 \; Fraunhofer SIT)\n\n\n\n&nbsp\;\n\nSession 1: RESPONSIBILITIES\, RIGHTS 
 AND ENFORCEMENT\n\n\n\n02:30 p.m.\nCyber Security: Public Responsibility a
 nd Fundamental Rights\, or Shared Responsibility and Regulatory Challenge
 ?\nThéodore Christakis (University Grenoble Alpes\; Centre for Internatio
 nal Security &amp\; European Studies\; Institut Universitaire de France)\n
 Randal S. Milch (NYU Center on Law &amp\; Security and NYU Center for Cybe
 rsecurity)\n\n\n04:00 p.m.\nCoffee Break\n\n\n04:30 p.m.\nLaw Enforcement\
 , Intelligence and Jurisdiction: Approaches and Conflicting Interests\nin 
 a Transatlantic Perspective\nGail Kent (Facebook)\nThorsten Wetzling (stif
 tung neue verantwortung)\nMark Lange (Microsoft)\n\n\n06:30 p.m.\nDinner S
 peech: Transatlantic Cooperation in Cyber Security and Privacy Issues\nKar
 sten Geier (German Foreign Office)\n\n\n\n&nbsp\;\n\nTuesday\, 7 November
  2017\n\nSession 2: LOOKING FOR COMMON GROUND IN A GLOBAL PERSPECTIVE\n\n\
 n\n09:30 a.m.\nGDPR\, Privacy Shield and the Framework Agreement\nKai von 
 Lewinski (University of Passau)\nChristian Djeffal (HIIG)\nZachary K. Gold
 man (NYU Center on Law &amp\; Security)\n\n\n11:00 a.m.\nCoffee Break\n\n\
 n11:30 a.m.\nCyber Security and Privacy Protection as Global Challenges: W
 hat Role for the U.S./EU Partnership?\nSven Herpig (Transatlantic Cyber Fo
 rum\, stiftung neue verantwortung)\nJudith H. Germano (NYU Center for Cybe
 rsecurity)\nPhilipp S. Krüger (Fraunhofer SIT)\n\n\n01:00 p.m.\nLunch\n\n
 \n\n&nbsp\;\n\nSession 3: THE REGULATORS’ TOOL BOX\n\n\n\n02:30 p.m.\nNo
 rmative Instruments for Private and Secure Transatlantic Data Flows\nMax v
 on Grafenstein (HIIG)\nChristopher Kuner (Brussels Privacy Hub\, Vrije Uni
 versiteit Brussel)\nTyson Barker (The Aspen Institute Germany)\n\n\n04:00 
 p.m.\nCoffee Break\n\n\n04:30 p.m.\nProcedural\, Institutional\, Technical
  and Management Devices\nIra Rubinstein (NYU School of Law)\nKlaus Lenssen
  (Cisco Germany)\nRotraud Gitter (German Federal Ministry of the Interior)
 \n\n\n06:00 p.m.\nConclusions &amp\; Outlook\nZachary K. Goldman (NYU Cent
 er on Law &amp\; Security)\nIngolf Pernice (Humboldt-Universität zu Berli
 n\; HIIG)\n\n\n\n&nbsp\;
ATTACH;FMTTYPE=image/jpeg:https://www.hiig.de/wp-content/uploads/2017/10/c
 hristian-fregnan-339342-unsplash.jpg
CATEGORIES:Events vor 2018 ohne Titelbild,Themen im Fokus
LOCATION:Humboldt Institut für Internet und Gesellschaft\, Französische S
 traße 9\, Berlin\, 10117\, Deutschland
X-APPLE-STRUCTURED-LOCATION;VALUE=URI;X-ADDRESS=Französische Straße 9\, B
 erlin\, 10117\, Deutschland;X-APPLE-RADIUS=100;X-TITLE=Humboldt Institut f
 ür Internet und Gesellschaft:geo:0,0
END:VEVENT
BEGIN:VTIMEZONE
TZID:Europe/Berlin
X-LIC-LOCATION:Europe/Berlin
BEGIN:STANDARD
DTSTART:20171029T020000
TZOFFSETFROM:+0200
TZOFFSETTO:+0100
TZNAME:CET
END:STANDARD
END:VTIMEZONE
END:VCALENDAR