BEGIN:VCALENDAR
VERSION:2.0
PRODID:-//wp-events-plugin.com//7.2.3.1//EN
TZID:Europe/Berlin
X-WR-TIMEZONE:Europe/Berlin
BEGIN:VEVENT
UID:446@hiig.de
DTSTART;TZID=Europe/Berlin:20170719T130000
DTEND;TZID=Europe/Berlin:20170719T140000
DTSTAMP:20231220T110910Z
URL:https://www.hiig.de/events/towards-p2p-online-voting-protocols/
SUMMARY:Towards P2P Online Voting Protocols – Lunch Talk mit Robert Riema
 nn
DESCRIPTION:Am 19. Juli hält unser Gastforscher Robert Riemann einen öffe
 ntlichen Lunch Talk in der Küche des Instituts. Die Veranstaltung findet 
 auf Englisch statt\, weitere Informationen und die Möglichkeit zur Anmeld
 ung untenstehend.
CATEGORIES:Events vor 2018 ohne Titelbild,Exploring Digital Spheres
LOCATION:Humboldt Institut für Internet und Gesellschaft\, Französische S
 traße 9\, Berlin\, 10117\, Deutschland
X-APPLE-STRUCTURED-LOCATION;VALUE=URI;X-ADDRESS=Französische Straße 9\, B
 erlin\, 10117\, Deutschland;X-APPLE-RADIUS=100;X-TITLE=Humboldt Institut f
 ür Internet und Gesellschaft:geo:0,0
END:VEVENT
BEGIN:VTIMEZONE
TZID:Europe/Berlin
X-LIC-LOCATION:Europe/Berlin
BEGIN:DAYLIGHT
DTSTART:20170326T030000
TZOFFSETFROM:+0100
TZOFFSETTO:+0200
TZNAME:CEST
END:DAYLIGHT
END:VTIMEZONE
END:VCALENDAR