BEGIN:VCALENDAR
VERSION:2.0
PRODID:-//wp-events-plugin.com//7.2.3.1//EN
TZID:Europe/Berlin
X-WR-TIMEZONE:Europe/Berlin
BEGIN:VEVENT
UID:264@hiig.de
DTSTART;TZID=Europe/Berlin:20150901T183000
DTEND;TZID=Europe/Berlin:20150901T230000
DTSTAMP:20231220T145728Z
URL:https://www.hiig.de/events/startup-clinics-talk-zu-co-founding/
SUMMARY:Startup Clinics Talk: Wie finde ich den/die passende/n Mitgründer/
 in?
DESCRIPTION:[photospace link="file" ids="24536\,24537\,24534\,24538\,24541\
 ,24542\,24546\,24543\,24544\,24545\,24547\,24549"]\nStartup Clinics Talk: 
 Wie finde ich den/die passende/n Mitgründer/in?\n01. September 2015 | Ein
 lass 18.30 Uhr | Start 19.00 Uhr\nFactory Berlin | Rheinsberger Str. 76/77
  | 10115 Berlin | Eingang über Strelitzer Straße\nMehr als 75% aller Sta
 rtups werden im Team gegründet (DSM 2014). Je komplexer das Vorhaben und 
 je anspruchsvoller der Markt\, desto höher sind die Erfolgschancen von Te
 am- gegenüber Einzelgründungen. Doch wie und wo findet man eine/n passen
 de/n Co-Founder/in und was gilt es dabei unbedingt zu beachten? Wie setzt 
 sich ein optimales Gründungsteam zusammen?\n\nDiese und andere Fragen sin
 d im vierten Startup Clinics Talk unser Thema sein. Unser Ziel ist es\, da
 s Thema Co-Founding im Rahmen von Gründen-Live 2015 möglichst vollumfän
 glich und aus verschiedenen Perspektiven zu beleuchten. Nach einer Einfüh
 rung des HIIG-Doktoranden Martin Wrobel moderiert Mark Möbius (Gründer v
 on StartupMatch\, Experte für Co-Founder Matching sowie Berater und Coach
  diverser Startups) den weiteren Abend. Als Diskussionsgäste nehmen teil:
 \n\n 	Anna Rojahn (Gründerin\, Fast Forward Imaging)\n 	Sarah Hoffmann (D
 irector People &amp\; Organization bei HitFox Group/FinLeap)\n 	Christoph 
 Baier (Gründer\, founderio)\n 	Michael Pütz (Gründer\, DaWanda)\n 	Phil
 ippe Bopp (Gründer\, machtfit)\n 	Sebastian Klein (Gründer\, Blinkist)\n
 \nInteressierte Startups und GründerInnen\, die aktuell selbst auf der Su
 che nach einer Co-Founderin oder einem Co-Founder sind oder bereits selbst
  vor Herausforderungen mit dem eigenen Gründerteam standen\, sind herzlic
 h eingeladen sich für den Startup Clincis Talk in der Factory anzumelden.
  Das Event wird dieses Mal auf Deutsch stattfinden.\nZur Reihe\nDie Startu
 p Clinics Talks sind eine Reihe der HIIG Startup Clinics. In den Talks spr
 echen ExpertInnen aus den Bereichen HR\, Management\, Finanzen\, Recht\, V
 ertrieb und Geschäftsmodellentwicklung und geben ihre Erfahrungen an Grü
 nderInnen und Interessierte der Berliner Startup-Szene weiter.\n
CATEGORIES:Events vor 2018 ohne Titelbild,Netzwerken
LOCATION:Factory\, Rheinsberger Str. 76/77\, Berlin\, 10115\, Deutschland
X-APPLE-STRUCTURED-LOCATION;VALUE=URI;X-ADDRESS=Rheinsberger Str. 76/77\, B
 erlin\, 10115\, Deutschland;X-APPLE-RADIUS=100;X-TITLE=Factory:geo:0,0
END:VEVENT
BEGIN:VTIMEZONE
TZID:Europe/Berlin
X-LIC-LOCATION:Europe/Berlin
BEGIN:DAYLIGHT
DTSTART:20150329T030000
TZOFFSETFROM:+0100
TZOFFSETTO:+0200
TZNAME:CEST
END:DAYLIGHT
END:VTIMEZONE
END:VCALENDAR