BEGIN:VCALENDAR
VERSION:2.0
PRODID:-//wp-events-plugin.com//7.2.3.1//EN
TZID:Europe/Berlin
X-WR-TIMEZONE:Europe/Berlin
BEGIN:VEVENT
UID:187@hiig.de
DTSTART;TZID=Europe/Berlin:20150205T190000
DTEND;TZID=Europe/Berlin:20150205T210000
DTSTAMP:20231220T105740Z
URL:https://www.hiig.de/events/startup-clinics-talk-sales-for-startups/
SUMMARY:Startup Clinics Talk: Sales for Startups | Workshop
DESCRIPTION:Die Startup Clinics Talks (SCT) sind eine Reihe der HIIG Startu
 p Clinics. In den SCT sprechen Experten aus verschiedenen Bereichen wie zu
 m Beispiel Management\, Personal\, Finanzen\, Recht\, Vertrieb oder Gesch
 äftsmodellentwicklung und geben ihre Erfahrungen an Gründer und die Berl
 iner Startup-Szene weiter. Die englische Eventbeschreibung sehen Sie im fo
 lgenden. Da die Plätze limitiert sind\, registrieren Sie sich bitte hier.
 \nSales for Startups: Four Experts Offer Tips &amp\; Advice.\nAccording to
  the Startup Genome Report customer acquisition is the No. 1 challenge for
  Internet startups in all stages. For many startups with a B2B focus\, sal
 es is the major success factor right from the beginning. Therefore we invi
 ted four experts with different perspectives on the topic who shared thei
 r valuable experiences with the audience present. Our aim was to host an 
 event where like-minded entrepreneurs\, startup teams and individuals inte
 rested in sales can meet in an informal setting.\n\n[photospace ids="21739
 \,21740\,21741\,21742\,21743\,21744\,21745\,21746\,21747\,21748\,21749\,21
 750\,21751\,21752\,21753\,21754\,21755"]\nSpeaker\n\n 	Ayesheh-Colette Car
 ta (Founder\, Wendero)\n 	Angela Wiesenmüller (Director Marketing DACH\, 
 Meltwater)\n 	Dominic Blank (Founder\, POSpulse)\n 	Mani Pirouz (Regional 
 Director\, Kenshoo)\n\nAgenda\n\n\n\n7:00 p.m\nWelcome and Intro to Startu
 p Clinics\n\n\n7:10 p.m\nShort Expert Talks with Q&amp\;As\n\n\n8:00 p.m\n
 Networking\n\n\n\nAbout The Series\nThe Startup Clinics Talks (SCT) were d
 eveloped for those interested in learning from some of Berlin’s top star
 tup minds. We organize a series of local events with experts in the areas 
 of HR\, Management\, Finance\, Law\, Sales\, Business Modeling and more. E
 xperts will range from experienced entrepreneurs to professionals with yea
 rs of domain expertise. Join us and connect with fellow entrepreneurs\, an
 d experts who are eager to learn about your startup. For more information 
 please visit www.startup-clinics.com. This series is organized by a group 
 of doctoral researchers from the Alexander von Humboldt Institute for Inte
 rnet and Society.
CATEGORIES:Netzwerken
LOCATION:Ehemalige Institutsräume des HIIG | Raum E27\, Bebelplatz 1\, Ber
 lin\, 10117\, Deutschland
X-APPLE-STRUCTURED-LOCATION;VALUE=URI;X-ADDRESS=Bebelplatz 1\, Berlin\, 101
 17\, Deutschland;X-APPLE-RADIUS=100;X-TITLE=Ehemalige Institutsräume des 
 HIIG | Raum E27:geo:0,0
END:VEVENT
BEGIN:VTIMEZONE
TZID:Europe/Berlin
X-LIC-LOCATION:Europe/Berlin
BEGIN:STANDARD
DTSTART:20141026T020000
TZOFFSETFROM:+0200
TZOFFSETTO:+0100
TZNAME:CET
END:STANDARD
END:VTIMEZONE
END:VCALENDAR