BEGIN:VCALENDAR
VERSION:2.0
PRODID:-//wp-events-plugin.com//7.2.3.1//EN
TZID:Europe/Berlin
X-WR-TIMEZONE:Europe/Berlin
BEGIN:VEVENT
UID:1411@hiig.de
DTSTART;TZID=Europe/Berlin:20250327T160000
DTEND;TZID=Europe/Berlin:20250327T170000
DTSTAMP:20250805T140620Z
URL:https://www.hiig.de/events/spotlight-strengthening-democracy-against-p
 olarisation/
SUMMARY:Spotlight: Strengthening Democracy Against Polarisation
DESCRIPTION:In dieser Ausgabe werfen wir das Spotlight auf die wachsende Po
 larisierung und Wege\, um dagegen vorzugehen.
ATTACH;FMTTYPE=image/jpeg:https://www.hiig.de/wp-content/uploads/2025/03/E
 ventseite_Spotlight_250313-1-–-2.png
LOCATION:Online\, HIIG\, Berlin\, Deutschland
X-APPLE-STRUCTURED-LOCATION;VALUE=URI;X-ADDRESS=HIIG\, Berlin\, Deutschland
 ;X-APPLE-RADIUS=100;X-TITLE=Online:geo:0,0
END:VEVENT
BEGIN:VTIMEZONE
TZID:Europe/Berlin
X-LIC-LOCATION:Europe/Berlin
BEGIN:STANDARD
DTSTART:20241027T020000
TZOFFSETFROM:+0200
TZOFFSETTO:+0100
TZNAME:CET
END:STANDARD
END:VTIMEZONE
END:VCALENDAR