BEGIN:VCALENDAR
VERSION:2.0
PRODID:-//wp-events-plugin.com//7.2.3.1//EN
TZID:Europe/Berlin
X-WR-TIMEZONE:Europe/Berlin
BEGIN:VEVENT
UID:835@hiig.de
DTSTART;TZID=Europe/Berlin:20200714T193000
DTEND;TZID=Europe/Berlin:20200714T213000
DTSTAMP:20200818T143915Z
URL:https://www.hiig.de/events/screening-twentyforty-utopias-for-a-digital
 -society/
SUMMARY:Screening: twentyforty - Utopias for a Digital Society
DESCRIPTION:Der twentyforty Film greift die dreizehn Utopien für die digit
 ale Gesellschaft des Projektes twentyforty auf und adaptiert diese für ei
 nen episodischen Film. Das Screening findet auf Englisch statt.
ATTACH;FMTTYPE=image/jpeg:https://www.hiig.de/wp-content/uploads/2020/07/B
 anner_screening_neu.png
CATEGORIES:Exploring Digital Spheres
LOCATION:Haus der Statistik\, Karl-Marx-Allee 1\, Berlin\, Berlin\, 10178\,
  Deutschland
X-APPLE-STRUCTURED-LOCATION;VALUE=URI;X-ADDRESS=Karl-Marx-Allee 1\, Berlin\
 , Berlin\, 10178\, Deutschland;X-APPLE-RADIUS=100;X-TITLE=Haus der Statist
 ik:geo:0,0
END:VEVENT
BEGIN:VTIMEZONE
TZID:Europe/Berlin
X-LIC-LOCATION:Europe/Berlin
BEGIN:DAYLIGHT
DTSTART:20200329T030000
TZOFFSETFROM:+0100
TZOFFSETTO:+0200
TZNAME:CEST
END:DAYLIGHT
END:VTIMEZONE
END:VCALENDAR