BEGIN:VCALENDAR
VERSION:2.0
PRODID:-//wp-events-plugin.com//7.2.3.1//EN
TZID:Europe/Berlin
X-WR-TIMEZONE:Europe/Berlin
BEGIN:VEVENT
UID:1126@hiig.de
DTSTART;TZID=Europe/Berlin:20230627T150000
DTEND;TZID=Europe/Berlin:20230627T163000
DTSTAMP:20230525T130107Z
URL:https://www.hiig.de/events/rat-beim-beirat-potenzial-von-plattformbeir
 aeten/
SUMMARY:Rat beim Beirat: Potenzial von Plattformbeiräten
DESCRIPTION:Wie halten wir die Balance zwischen gesellschaftlicher Verände
 rung und struktureller Institutionalisierung? Wie sollten Plattformräte b
 esetzt werden? Welche Kriterien von Diversität und Expertise sollten ihre
 r Zusammensetzung zugrunde liegen?
ATTACH;FMTTYPE=image/jpeg:https://www.hiig.de/wp-content/uploads/2023/04/D
 eep-Dive-Bertelsmann-2.png
LOCATION:Online\, HIIG\, Berlin\, Deutschland
X-APPLE-STRUCTURED-LOCATION;VALUE=URI;X-ADDRESS=HIIG\, Berlin\, Deutschland
 ;X-APPLE-RADIUS=100;X-TITLE=Online:geo:0,0
END:VEVENT
BEGIN:VTIMEZONE
TZID:Europe/Berlin
X-LIC-LOCATION:Europe/Berlin
BEGIN:DAYLIGHT
DTSTART:20230326T030000
TZOFFSETFROM:+0100
TZOFFSETTO:+0200
TZNAME:CEST
END:DAYLIGHT
END:VTIMEZONE
END:VCALENDAR