BEGIN:VCALENDAR
VERSION:2.0
PRODID:-//wp-events-plugin.com//7.2.3.1//EN
TZID:Europe/Berlin
X-WR-TIMEZONE:Europe/Berlin
BEGIN:VEVENT
UID:485@hiig.de
DTSTART;TZID=Europe/Berlin:20171011T130000
DTEND;TZID=Europe/Berlin:20171011T140000
DTSTAMP:20231220T110838Z
URL:https://www.hiig.de/events/questioning-the-inclusion-of-cyberfraud-in-
 the-ambit-of-cybercrime-lunch-talk-mit-sagwadi-mabunda/
SUMMARY:Questioning the inclusion of ‘cyberfraud’ in the ambit of cyber
 crime - Lunch talk mit Sagwadi Mabunda
DESCRIPTION:Am 11. Oktober findet ein öffentlicher Brown-bag Lunch in der 
 Küche des Instituts statt. Sagwadi Mabunda ist Doktorandin an der Univers
 ity of the Western Cape\, Südafrika\, in Partnerschaft mit dem HIIG. Ihre
  Forschung konzentriert sich auf die südafrikanische Gesetzgebung zum The
 ma Cybercrime. Die Veranstaltung findet auf englisch statt\, weitere Infor
 mationen und die Möglichkeit zur Anmeldung untenstehend.\nOPEN BROWN-BAG 
 LUNCH\nLunch talk with Sagwadi Mabunda: \nQuestioning the inclusion of 
 ‘cyberfraud’ in the ambit of cybercrime\nWednesday\, 11 October 2017 
 · 1pm · HIIG Kitchen\nWe cordially invite you to this Open Brown-Bag Lun
 ch at HIIG with Ms Sagwadi Mabunda on the question of the inclusion of ‘
 cyberfraud’ in the ambit of cybercrime.\n\nCybercrime is embedded in our
  everyday lexicon in such a way that it gets diluted\, misused and misinte
 rpreted. With the growth of legislative efforts\, policy frameworks and in
 ternational instruments\, it is becoming imperative to have a common under
 standing of what is and isn’t a cybercrime.\n\nSagwadi Mabunda applies t
 he Routine Activities Theory and the Gordon &amp\; Ford Categorisation of 
 cybercrime as her philosophical basis for discussing cybercrime legislativ
 e efforts. She wants to apply this two-part framework to the question of w
 hether “cyber” fraud is correctly classified as true forms of cybercri
 me.\n\nSagwadi is a PhD candidate at the University of the Western Cape\, 
 South Africa\, in partnership with Humboldt University of Berlin. Her rese
 arch focus is on South Africa’s legislative response to cybercrime: a cr
 itique of the South African Cybercrimes and Cybersecurity Bill.\n\nThe lun
 ch talk is open to the public\, please register in advance via brownbag@h
 iig.de.
CATEGORIES:Events vor 2018 ohne Titelbild,Exploring Digital Spheres
LOCATION:Humboldt Institut für Internet und Gesellschaft\, Französische S
 traße 9\, Berlin\, 10117\, Deutschland
X-APPLE-STRUCTURED-LOCATION;VALUE=URI;X-ADDRESS=Französische Straße 9\, B
 erlin\, 10117\, Deutschland;X-APPLE-RADIUS=100;X-TITLE=Humboldt Institut f
 ür Internet und Gesellschaft:geo:0,0
END:VEVENT
BEGIN:VTIMEZONE
TZID:Europe/Berlin
X-LIC-LOCATION:Europe/Berlin
BEGIN:DAYLIGHT
DTSTART:20170326T030000
TZOFFSETFROM:+0100
TZOFFSETTO:+0200
TZNAME:CEST
END:DAYLIGHT
END:VTIMEZONE
END:VCALENDAR