BEGIN:VCALENDAR
VERSION:2.0
PRODID:-//wp-events-plugin.com//7.2.3.1//EN
TZID:Europe/Berlin
X-WR-TIMEZONE:Europe/Berlin
BEGIN:VEVENT
UID:484@hiig.de
DTSTART;TZID=Europe/Berlin:20171008T180000
DTEND;TZID=Europe/Berlin:20171008T203000
DTSTAMP:20231220T110840Z
URL:https://www.hiig.de/events/praesentation-und-preisverleihung-game-jam-
 unveil-the-privacy-threat/
SUMMARY:Präsentation und Preisverleihung | Game Jam: Unveil the privacy th
 reat
DESCRIPTION:Am 8. Oktober 2017 laden wir Sie herzlich zur Präsentation der
  Ergebnisse des zweitägigen Game Jams mit anschließender Preisverleihung
  ein. Das Event findet in englischer Sprache statt\, um Anmeldung wird geb
 eten.\n\n\n\nOn 7 and 8 October 2017 we run a Game Jam to explore solution
 s for new challenges of the concepts behind trending topics such as smart 
 city\, privacy and security. Together with game designers and experts in t
 he field of privacy and security we will develop game concepts to simplify
  and innovate the methods of employee training for data-driven companies. 
 The unique form of the event promises a comprehensive\, intuitive and crea
 tive approach in teaching complex matter.\nPresentation\, Award\, and Netw
 orking | Game Jam: Unveil the privacy threat\n8 October 2017 | 18:00 – 2
 0:30 | Doors open 17:45\nSirius Minds\, Französische Str. 12\, 10117 Berl
 in\nInvite your friends on Facebook\nThe starting point for the jammers: H
 ow do we build smart cities in a privacy and security-friendly way\, when 
 more and more movements and human actions are tracked by public wifi and c
 amera systems? How to develop the right infrastructure? How to sensitise e
 mployees handling risky data in businesses? In more general words\, how to
  combine state-of-the-art privacy and security and creative thinking? In o
 rder to explore answers to these questions the Alexander von Humboldt Inst
 itute for Internet and Society is organising a 2-day event for game design
 ers and experts in the field of privacy and security. Join us to see the r
 esults\, share your ideas and make new contacts.\nSchedule\nSunday\, 8 Oct
 ober 2017\n\n\n\n17:45\nOpen doors\n\n\n18:00\nPresentation of the game co
 ncepts  \n\n\n19:00\nEvaluation of the results by the jury | Get-together
 \n\n\n19:30\nAward ceremony\n\n\n20:00\nGet-together\n\n\n\nJury and Award
 s\n\nJury members: Michelle Dennedy (CISCO)\, Meike Kamp (Datenschutzbehö
 rde)\, Nico Nowarra (Experimental Game)\, Lies van Roessel (Hans-Bredow-In
 stitut)\, Thomas Schildhauer (HIIG)\, Eva Schulz-Kamm (Siemens)\, Lars Vor
 mann (Gamescom)\, Jillian York (Electronic Frontier Foundation)\n\nThe bes
 t game idea will be awarded by an expert jury with an exciting prize – 
 a weekend trip to London for the whole winning team including a visit of T
 he Crystal\, the world’s largest museum on the future of (smart) cities 
 – sponsored by Siemens. Furthermore\, amongst all participants\, we give
  away two one-year-memberships of Adobe Creative Cloud sponsored by Adobe.
 \nOrganisers and Partners\nAn event within the research project Privacy by
  design in smart cities organised by Alexander von Humboldt Institute for 
 Internet and Society financed by Cisco\, in collaboration with INNOVATION 
 AND LAW\, Booster Space and iRights.Law.\n\n
CATEGORIES:Events vor 2018 ohne Titelbild,Netzwerken,Themen im Fokus
LOCATION:Sirius Minds\, Französische Str. 12\, Berlin\, 10117\, Deutschlan
 d
X-APPLE-STRUCTURED-LOCATION;VALUE=URI;X-ADDRESS=Französische Str. 12\, Ber
 lin\, 10117\, Deutschland;X-APPLE-RADIUS=100;X-TITLE=Sirius Minds:geo:0,0
END:VEVENT
BEGIN:VTIMEZONE
TZID:Europe/Berlin
X-LIC-LOCATION:Europe/Berlin
BEGIN:DAYLIGHT
DTSTART:20170326T030000
TZOFFSETFROM:+0100
TZOFFSETTO:+0200
TZNAME:CEST
END:DAYLIGHT
END:VTIMEZONE
END:VCALENDAR