BEGIN:VCALENDAR
VERSION:2.0
PRODID:-//wp-events-plugin.com//7.2.3.1//EN
TZID:Europe/Berlin
X-WR-TIMEZONE:Europe/Berlin
BEGIN:VEVENT
UID:1222@hiig.de
DTSTART;TZID=Europe/Berlin;VALUE=DATE:20240421
DTEND;TZID=Europe/Berlin;VALUE=DATE:20240429
DTSTAMP:20250203T101259Z
URL:https://www.hiig.de/events/platform-regulation-and-democracies/
SUMMARY:Platform Regulation and Democracies
DESCRIPTION:Wir co-organisieren eine Summer School in Indien zum Thema Plat
 tformregulierung und Demokratien in verschiedenen gesellschaftlichen Konte
 xten.
ATTACH;FMTTYPE=image/jpeg:https://www.hiig.de/wp-content/uploads/2024/02/F
 eatured-image-–-project-–-7.png
LOCATION:New Delhi\, India\, n/a\, New Delhi\, Indien
X-APPLE-STRUCTURED-LOCATION;VALUE=URI;X-ADDRESS=n/a\, New Delhi\, Indien;X-
 APPLE-RADIUS=100;X-TITLE=New Delhi\, India:geo:0,0
END:VEVENT
BEGIN:VTIMEZONE
TZID:Europe/Berlin
X-LIC-LOCATION:Europe/Berlin
BEGIN:DAYLIGHT
DTSTART:20240331T030000
TZOFFSETFROM:+0100
TZOFFSETTO:+0200
TZNAME:CEST
END:DAYLIGHT
END:VTIMEZONE
END:VCALENDAR