BEGIN:VCALENDAR
VERSION:2.0
PRODID:-//wp-events-plugin.com//7.2.3.1//EN
TZID:Europe/Berlin
X-WR-TIMEZONE:Europe/Berlin
BEGIN:VEVENT
UID:73@hiig.de
DTSTART;TZID=Europe/Berlin:20140128T180000
DTEND;TZID=Europe/Berlin:20140128T190000
DTSTAMP:20180906T094622Z
URL:https://www.hiig.de/events/open-journal-club-with-james-evans/
SUMMARY:Open Journal Club mit James Evans
DESCRIPTION:James Evans ist Associate Professor für Soziologie an der Univ
 ersity of Chicago. Seine Forschung untersucht\, wie soziale und technische
  Institutionen Wissen (Wissenschaft\, Forschung\, Recht\, Nachrichten\, Re
 ligion) formen und\, wie diese Verständnisse wiederum die soziale und tec
 hnische Welt umgestalten.\n\nIm Journal Club wird James Evans folgendes Th
 ema diskutieren:\n"How expression shapes the reception of scientific ideas
 " (Arbeitstitel)\n\nDer Vortrag und die Diskussion werden auf Englisch sta
 ttfinden.\n\nDer Journal Club ist eine wöchentlich stattfindende Veransta
 ltung\, bei der ForscherInnen des HIIG gemeinsam interessante Publikatione
 n diskutieren. Diesen Dienstag öffnen wir unsere Türen für ein breitere
 s Publikum und laden Sie herzlich ein\, an der Veranstaltung teilzunehmen.
CATEGORIES:Exploring Digital Spheres
LOCATION:Ehemalige Institutsräume des HIIG | Raum E27\, Bebelplatz 1\, Ber
 lin\, 10117\, Deutschland
X-APPLE-STRUCTURED-LOCATION;VALUE=URI;X-ADDRESS=Bebelplatz 1\, Berlin\, 101
 17\, Deutschland;X-APPLE-RADIUS=100;X-TITLE=Ehemalige Institutsräume des 
 HIIG | Raum E27:geo:0,0
END:VEVENT
BEGIN:VTIMEZONE
TZID:Europe/Berlin
X-LIC-LOCATION:Europe/Berlin
BEGIN:STANDARD
DTSTART:20131027T020000
TZOFFSETFROM:+0200
TZOFFSETTO:+0100
TZNAME:CET
END:STANDARD
END:VTIMEZONE
END:VCALENDAR