BEGIN:VCALENDAR
VERSION:2.0
PRODID:-//wp-events-plugin.com//7.2.3.1//EN
TZID:Europe/Berlin
X-WR-TIMEZONE:Europe/Berlin
BEGIN:VEVENT
UID:68@hiig.de
DTSTART;TZID=Europe/Berlin:20140115T180000
DTEND;TZID=Europe/Berlin:20140115T190000
DTSTAMP:20140117T142511Z
URL:https://www.hiig.de/events/open-journal-club-mit-cornelius-puschmann/
SUMMARY:Open Journal Club mit Cornelius Puschmann
DESCRIPTION:Cornelius Puschmann ist assoziierter Forscher am Humboldt Insti
 tut für Internet und Gesellschaft. Zu Jahresbeginn stellen er und Mithera
 usgeberin Katrin Weller im Open Journal Club ihre neueste Publikation Twi
 tter and Society zur Diskussion.\n\nDer Journal Club ist eine wöchentlich
  stattfindende Veranstaltung\, bei der DoktorandInnen und wissenschaftlich
 e MitarbeiterInnen des HIIG gemeinsam interessante Publikationen diskutier
 en. Am 15. Januar öffnen wir unsere Türen für ein breiteres Publikum. W
 ir laden Sie herzlich ein an der Veranstaltung teilzunehmen.\n\nEinen erst
 en Eindruck zum Buch können Sie auf der Internetseite unseres Summer Fell
 ows\, Julian Ausserhofer\, gewinnen: Political Discourses on Twitter: Ne
 tworking Topics\, Objects and People (Ausserhofer/Maireder)\n
ATTACH;FMTTYPE=image/jpeg:https://www.hiig.de/wp-content/uploads/2013/12/3
 12169_cover.jpg
CATEGORIES:Exploring Digital Spheres
LOCATION:Ehemalige Institutsräume des HIIG | Raum E27\, Bebelplatz 1\, Ber
 lin\, 10117\, Deutschland
X-APPLE-STRUCTURED-LOCATION;VALUE=URI;X-ADDRESS=Bebelplatz 1\, Berlin\, 101
 17\, Deutschland;X-APPLE-RADIUS=100;X-TITLE=Ehemalige Institutsräume des 
 HIIG | Raum E27:geo:0,0
END:VEVENT
BEGIN:VTIMEZONE
TZID:Europe/Berlin
X-LIC-LOCATION:Europe/Berlin
BEGIN:STANDARD
DTSTART:20131027T020000
TZOFFSETFROM:+0200
TZOFFSETTO:+0100
TZNAME:CET
END:STANDARD
END:VTIMEZONE
END:VCALENDAR