BEGIN:VCALENDAR
VERSION:2.0
PRODID:-//wp-events-plugin.com//7.2.3.1//EN
TZID:Europe/Berlin
X-WR-TIMEZONE:Europe/Berlin
BEGIN:VEVENT
UID:184@hiig.de
DTSTART;TZID=Europe/Berlin:20141210T170000
DTEND;TZID=Europe/Berlin:20141210T180000
DTSTAMP:20231220T105756Z
URL:https://www.hiig.de/events/open-hiig-club-mit-christian-stern/
SUMMARY:Open HIIG Club mit Christian Stern
DESCRIPTION:\n\nErst vor Kurzem ist der Biologe Christian Stern von seiner 
 einjährigen Reise zurückgekehrt\, während der er weltweit Labore und
  Wissenschaftler besuchte und eine Doku-Serie produzierte: ONE WORLD ONE 
 LAB.\n\nAm 10. Dezember 2014\, ab 17:00 Uhr wird er uns von den Beding
 ungen erzählen\, unter denen Wissenschaftler in Südasien und Südamerik
 a arbeiten – zwischen Tempeln\, Armut\, totalitäre Regimen\, unberüh
 rter Natur und viel Hoffnung.\n\nDer Vortrag wird auf Englisch stattfinden
 .\nDer HIIG Club ist eine wöchentlich stattfindende Veranstaltung\, bei d
 er DoktorandInnen und wissenschaftliche MitarbeiterInnen des HIIG gemeinsa
 m interessante Publikationen und Themen diskutieren. Am 10. Dezember öff
 nen wir unsere Türen für ein breiteres Publikum. Wir laden Sie herzlich 
 ein an der Veranstaltung teilzunehmen.
CATEGORIES:Exploring Digital Spheres
LOCATION:HIIG am Hausvogteiplatz\, Oberwallstraße 9\, Berlin\, 10117\, Deu
 tschland
X-APPLE-STRUCTURED-LOCATION;VALUE=URI;X-ADDRESS=Oberwallstraße 9\, Berlin\
 , 10117\, Deutschland;X-APPLE-RADIUS=100;X-TITLE=HIIG am Hausvogteiplatz:g
 eo:0,0
END:VEVENT
BEGIN:VTIMEZONE
TZID:Europe/Berlin
X-LIC-LOCATION:Europe/Berlin
BEGIN:STANDARD
DTSTART:20141026T020000
TZOFFSETFROM:+0200
TZOFFSETTO:+0100
TZNAME:CET
END:STANDARD
END:VTIMEZONE
END:VCALENDAR