BEGIN:VCALENDAR
VERSION:2.0
PRODID:-//wp-events-plugin.com//7.2.3.1//EN
TZID:Europe/Berlin
X-WR-TIMEZONE:Europe/Berlin
BEGIN:VEVENT
UID:1452@hiig.de
DTSTART;TZID=Europe/Berlin:20251029T140000
DTEND;TZID=Europe/Berlin:20251029T180000
DTSTAMP:20250908T092144Z
URL:https://www.hiig.de/events/omnipraesent-verborgen-auswirkungen-kosten-
 und-zukuenfte-von-ki/
SUMMARY:Omnipräsent & Verborgen: Auswirkungen\, Kosten und Zukünfte von K
 I
DESCRIPTION:In diesem Workshop können Sie gemeinsam mit Expert*innen kriti
 sch die Kosten & Auswirkungen von KI-Systemen diskutieren.
ATTACH;FMTTYPE=image/jpeg:https://www.hiig.de/wp-content/uploads/2025/08/E
 ventseite_Workshop_Oktober_2025-1.png
LOCATION:Humboldt Institut für Internet und Gesellschaft\, Französische S
 traße 9\, Berlin\, 10117\, Deutschland
X-APPLE-STRUCTURED-LOCATION;VALUE=URI;X-ADDRESS=Französische Straße 9\, B
 erlin\, 10117\, Deutschland;X-APPLE-RADIUS=100;X-TITLE=Humboldt Institut f
 ür Internet und Gesellschaft:geo:0,0
END:VEVENT
BEGIN:VTIMEZONE
TZID:Europe/Berlin
X-LIC-LOCATION:Europe/Berlin
BEGIN:STANDARD
DTSTART:20251026T020000
TZOFFSETFROM:+0200
TZOFFSETTO:+0100
TZNAME:CET
END:STANDARD
END:VTIMEZONE
END:VCALENDAR