BEGIN:VCALENDAR
VERSION:2.0
PRODID:-//wp-events-plugin.com//7.2.3.1//EN
TZID:Europe/Berlin
X-WR-TIMEZONE:Europe/Berlin
BEGIN:VEVENT
UID:814@hiig.de
DTSTART;TZID=Europe/Berlin;VALUE=DATE:20200527
DTEND;TZID=Europe/Berlin;VALUE=DATE:20200528
DTSTAMP:20200513T161502Z
URL:https://www.hiig.de/events/nternet-jurisdiction-policy-network-auc-reg
 ional-conference-2020/
SUMMARY:Internet & Jurisdiction Policy Network - AUC Regional Conference 20
 20
DESCRIPTION:On May 27\, 2020 the Internet & Jurisdiction Policy Network in 
 partnership with the African Union Commission will host a Regional Confere
 nce for Africa. 
ATTACH;FMTTYPE=image/jpeg:https://www.hiig.de/wp-content/uploads/2020/05/A
 UC-and-Internet-Jurisdiction-Policy-Network-Virtual-Regional-Conference-20
 20.png
CATEGORIES:Themen im Fokus
END:VEVENT
BEGIN:VTIMEZONE
TZID:Europe/Berlin
X-LIC-LOCATION:Europe/Berlin
BEGIN:DAYLIGHT
DTSTART:20200329T030000
TZOFFSETFROM:+0100
TZOFFSETTO:+0200
TZNAME:CEST
END:DAYLIGHT
END:VTIMEZONE
END:VCALENDAR