BEGIN:VCALENDAR
VERSION:2.0
PRODID:-//wp-events-plugin.com//7.2.3.1//EN
TZID:Europe/Berlin
X-WR-TIMEZONE:Europe/Berlin
BEGIN:VEVENT
UID:501@hiig.de
DTSTART;TZID=Europe/Berlin:20180130T190000
DTEND;TZID=Europe/Berlin:20180130T220000
DTSTAMP:20241216T154656Z
URL:https://www.hiig.de/events/neuberger-demokratie-oeffentlichkeit-digita
 le-gesellschaft/
SUMMARY:Christoph Neuberger: Demokratie und Öffentlichkeit in der digitale
 n Gesellschaft
DESCRIPTION:Christoph Neuberger analysiert die Transformation gesellschaftl
 icher Kommunikation konzeptionell und empirisch seit mehr als 20 Jahren. I
 n seinem Vortrag rekapituliert er grundlegende und aktuelle Entwicklungen.
ATTACH;FMTTYPE=image/jpeg:https://www.hiig.de/wp-content/uploads/2017/12/R
 edenreihe_02-Neuberger-–-16zu9-de-1.png
CATEGORIES:Events vor 2018 ohne Titelbild,Redenreihe: Making sense of
 digital society
LOCATION:Tagungswerk\, Lindenstraße 85\, Berlin\, 10969\, Deutschland
X-APPLE-STRUCTURED-LOCATION;VALUE=URI;X-ADDRESS=Lindenstraße 85\, Berlin\,
  10969\, Deutschland;X-APPLE-RADIUS=100;X-TITLE=Tagungswerk:geo:0,0
END:VEVENT
BEGIN:VTIMEZONE
TZID:Europe/Berlin
X-LIC-LOCATION:Europe/Berlin
BEGIN:STANDARD
DTSTART:20171029T020000
TZOFFSETFROM:+0200
TZOFFSETTO:+0100
TZNAME:CET
END:STANDARD
END:VTIMEZONE
END:VCALENDAR