BEGIN:VCALENDAR
VERSION:2.0
PRODID:-//wp-events-plugin.com//7.2.3.1//EN
TZID:Europe/Berlin
X-WR-TIMEZONE:Europe/Berlin
BEGIN:VEVENT
UID:1160@hiig.de
DTSTART;TZID=Europe/Berlin:20230927T164500
DTEND;TZID=Europe/Berlin:20230927T183000
DTSTAMP:20231129T152751Z
URL:https://www.hiig.de/events/nachvollziehbarkeit-von-ki/
SUMMARY:Interaktiver Workshop: KI menschlich erklärt
DESCRIPTION:Bei diesem Workshop können Sie zwei Erklärmodelle für ein be
 sseres Verständnis von KI ausprobieren. 
ATTACH;FMTTYPE=image/jpeg:https://www.hiig.de/wp-content/uploads/2023/07/K
 I-Kompass-–-Titelbild-–-2.png
LOCATION:Humboldt Institut für Internet und Gesellschaft\, Französische S
 traße 9\, Berlin\, 10117\, Deutschland
X-APPLE-STRUCTURED-LOCATION;VALUE=URI;X-ADDRESS=Französische Straße 9\, B
 erlin\, 10117\, Deutschland;X-APPLE-RADIUS=100;X-TITLE=Humboldt Institut f
 ür Internet und Gesellschaft:geo:0,0
END:VEVENT
BEGIN:VTIMEZONE
TZID:Europe/Berlin
X-LIC-LOCATION:Europe/Berlin
BEGIN:DAYLIGHT
DTSTART:20230326T030000
TZOFFSETFROM:+0100
TZOFFSETTO:+0200
TZNAME:CEST
END:DAYLIGHT
END:VTIMEZONE
END:VCALENDAR