BEGIN:VCALENDAR
VERSION:2.0
PRODID:-//wp-events-plugin.com//7.2.3.1//EN
TZID:Europe/Berlin
X-WR-TIMEZONE:Europe/Berlin
BEGIN:VEVENT
UID:1003@hiig.de
DTSTART;TZID=Europe/Berlin:20220706T140000
DTEND;TZID=Europe/Berlin:20220706T180000
DTSTAMP:20240119T134317Z
URL:https://www.hiig.de/events/nachhaltiges-digitales-unternehmertum-afrik
 a/
SUMMARY:Sustainable digital entrepreneurship in Benin
DESCRIPTION:Dieser Multi-Stakeholder-Dialog diskutiert nachhaltiges digital
 es Unternehmertum in Benin und dem frankophonen West- und Zentralafrika.
ATTACH;FMTTYPE=image/jpeg:https://www.hiig.de/wp-content/uploads/2022/06/U
 nterthema-2-2.png
END:VEVENT
BEGIN:VTIMEZONE
TZID:Europe/Berlin
X-LIC-LOCATION:Europe/Berlin
BEGIN:DAYLIGHT
DTSTART:20220327T030000
TZOFFSETFROM:+0100
TZOFFSETTO:+0200
TZNAME:CEST
END:DAYLIGHT
END:VTIMEZONE
END:VCALENDAR