BEGIN:VCALENDAR
VERSION:2.0
PRODID:-//wp-events-plugin.com//7.2.3.1//EN
TZID:Europe/Berlin
X-WR-TIMEZONE:Europe/Berlin
BEGIN:VEVENT
UID:1377@hiig.de
DTSTART;TZID=Europe/Berlin:20250120T090000
DTEND;TZID=Europe/Berlin:20250120T140000
DTSTAMP:20250805T141030Z
URL:https://www.hiig.de/events/mensch-und-maschine-in-der-kreditvergabe/
SUMMARY:Human in the Loop: Mensch und Maschine in der Kreditvergabe
DESCRIPTION:Die Abschlussveranstaltung der ersten Fallstudie im Projekt Hum
 an in the Loop befasst sich mit dem Thema Mensch und Maschine im Kreditver
 gabeprozess.
ATTACH;FMTTYPE=image/jpeg:https://www.hiig.de/wp-content/uploads/2024/11/F
 eatured-image-–-hilo.png
LOCATION:Humboldt Institut für Internet und Gesellschaft\, Französische S
 traße 9\, Berlin\, 10117\, Deutschland
X-APPLE-STRUCTURED-LOCATION;VALUE=URI;X-ADDRESS=Französische Straße 9\, B
 erlin\, 10117\, Deutschland;X-APPLE-RADIUS=100;X-TITLE=Humboldt Institut f
 ür Internet und Gesellschaft:geo:0,0
END:VEVENT
BEGIN:VTIMEZONE
TZID:Europe/Berlin
X-LIC-LOCATION:Europe/Berlin
BEGIN:STANDARD
DTSTART:20241027T020000
TZOFFSETFROM:+0200
TZOFFSETTO:+0100
TZNAME:CET
END:STANDARD
END:VTIMEZONE
END:VCALENDAR