BEGIN:VCALENDAR
VERSION:2.0
PRODID:-//wp-events-plugin.com//7.2.3.1//EN
TZID:Europe/Berlin
X-WR-TIMEZONE:Europe/Berlin
BEGIN:VEVENT
UID:320@hiig.de
DTSTART;TZID=Europe/Berlin:20160428T180000
DTEND;TZID=Europe/Berlin:20160428T213000
DTSTAMP:20231220T145603Z
URL:https://www.hiig.de/events/meine-daten-meine-wahl-was-bringt-uns-die-e
 uropaeische-datenschutzreform/
SUMMARY:Meine Daten - Meine Wahl! Was bringt uns die Europäische Datenschu
 tzreform?
DESCRIPTION:Filmvorführung von ‘Democracy. Im Rausch der Daten’\, gefo
 lgt von einem kurzen Vortrag und einer Diskussion mit Jan Philipp Albrecht
 \, MdEP.
CATEGORIES:Events vor 2018 ohne Titelbild,Exploring Digital Spheres
LOCATION:Humboldt-Universität zu Berlin | Auditorium Maximum\, Unter den L
 inden 6\, Berlin\, 10117\, Deutschland
X-APPLE-STRUCTURED-LOCATION;VALUE=URI;X-ADDRESS=Unter den Linden 6\, Berlin
 \, 10117\, Deutschland;X-APPLE-RADIUS=100;X-TITLE=Humboldt-Universität zu
  Berlin | Auditorium Maximum:geo:0,0
END:VEVENT
BEGIN:VTIMEZONE
TZID:Europe/Berlin
X-LIC-LOCATION:Europe/Berlin
BEGIN:DAYLIGHT
DTSTART:20160327T030000
TZOFFSETFROM:+0100
TZOFFSETTO:+0200
TZNAME:CEST
END:DAYLIGHT
END:VTIMEZONE
END:VCALENDAR