BEGIN:VCALENDAR
VERSION:2.0
PRODID:-//wp-events-plugin.com//7.2.3.1//EN
TZID:Europe/Berlin
X-WR-TIMEZONE:Europe/Berlin
BEGIN:VEVENT
UID:198@hiig.de
DTSTART;TZID=Europe/Berlin;VALUE=DATE:20151105
DTEND;TZID=Europe/Berlin;VALUE=DATE:20151108
DTSTAMP:20231220T145700Z
URL:https://www.hiig.de/events/medienkommunikation-zwischen-komplexitat-un
 d-vereinfachung-konzepte-methoden-praxis/
SUMMARY:Medienkommunikation zwischen Komplexität und Vereinfachung – Kon
 zepte\, Methoden\, Praxis
DESCRIPTION:Gemeinsame Jahrestagung der Fachgruppen Computervermittelte Kom
 munikation und Soziologie der Medienkommunikation der Deutschen Gesellscha
 ft für Publizistik- und Kommunikations­wissenschaft\n\n\nThema\nMedien u
 nd Kommunikation befinden sich offenkundig im andauernden Umbruch. Damit e
 inher gehen Wechselbewegungen zwischen Komplexität und Vereinfachung in d
 en Gegenstandsfeldern sowie in den Theorien und Methoden aktueller Kommuni
 kationswissenschaft und Medienforschung. Informationsangebote vielfältige
 n sich in ihrer Zahl\, vereinheitlichen sich aber inhaltlich\; Medienhande
 ln nimmt einerseits sehr unterschiedliche Formen an\, bewegt sich anderers
 eits aber innerhalb einer überschaubaren Zahl von Kommunikationsmodi und 
 Plattformen\; Medienorganisationen differenzieren sich zum einen aus und f
 usionieren zum anderen miteinander. Ebenso gehört der Umgang mit zunehmen
 den Handlungsoptionen in algorithmisch sortierten Angeboten\, mit wachsend
 en Kreisen potentieller Interaktionspartner als auch mit vorstrukturierten
  Kommunikationsmustern zur alltäglichen Erfahrung.\n\nDer Wunsch\, die Be
 dingungen\, Prozesse und Konsequenzen solcher kommunikativen Vorgänge und
  medialen Strukturveränderungen in ihrer Komplexität erfassen zu wollen\
 , um ihre Varianz und Variabilität adäquat abzubilden und zu verstehen\,
  führt indessen zu Komplikationen in theoretischer\, methodischer und for
 schungspraktischer Hinsicht. Sie verlangen\, so scheint es\, häufig eine 
 Beschränkung der zu betrachtenden Aspekte und zu untersuchenden Sachverha
 lte.\n\nDie Tagung hat das Ziel\, mediale Prozesse und kommunikatives Hand
 eln zwischen Komplexitätszunahme und Komplexitätsreduktion zu diskutiere
 n. Dazu soll die Vielfalt entsprechender theoretischer\, methodischer und 
 praktischer Zugänge in der Kommunikationswissenschaft und Medienanalyse z
 usammengebracht werden.\nProgramm\nDonnerstag\, 5. November 2015\nDoktoran
 dinnenkolloquium \nWZB Wissenschaftszentrum Berlin für Sozialforschung\, 
 Reichpietschufer 50\, 10785 Berlin-Tiergarten (geschlossene Veranstaltung)
 \n\n\n\n\n10:00 – 10:15\nBegrüßung\nTagesmoderation: Jessica Einspänn
 er-Pflock\n\n\n10:15 – 11:00\nKatrin Tonndorf\, Universität Passau: „
 Hypervideo zur Unterstützung von Bewegungstraining: Eine Untersuchung der
  Nutzung und Wirkung von nichtlinearen Videostrukturen in der Rehabilitati
 on von Krebspatienten“\nResponse: Irene Neverla und Imke Hoppe\n\n\n11:0
 0 – 11:45\nSonia Robak\, Universität Erfurt: „Intimacy at a Distance 
 noch näher. Ein Beitrag zu parasozialen Aktivtäten mit Personae als Allt
 agsbegleiter im Kontext der sozialen Netzwerke“\nResponse: Christoph Neu
 berger\n\n\n11:45 – 12:15\nKaffeepause\n\n\n12:15 – 13:00\nJeannine Te
 ichert\, Universität Erfurt: „Mediatisierung sozialer Beziehungen. Eine
  intra- und intergenerationelle Perspektive“\nResponse: Christine Linke\
 n\n\n13:00 – 14:00\nMittagspause\n\n\n14:00 – 14:45\nGina Schad\, Univ
 ersität Siegen: „Neue Öffentlichkeiten und Privatheit: Grenzverschiebu
 ng der Konstrukte durch digital-technische Entwicklungen als Herausforderu
 ng für die Zivilgesellschaft“\nResponse: Jeffrey Wimmer\n\n\n14:45 – 
 15:30\nSandra Hölbling-Inzko\, Alpen-Adria-Universität Klagenfurth: „S
 truktur und Form von gemeinschaftlicher Wissensproduktion im Internet am B
 eispiel der Question-and-Answer-Plattform Stack Exchange“\nResponse: Mer
 ja Mahrt\n\n\n15:30 – 16:00\nKaffeepause\n\n\n16:00 – 16:45\nKatharina
  Esau\, Heinrich-Heine-Universität Düsseldorf: „Argument\, Emotion\, N
 arration\, Humor und ihr Einfluss auf kommunikativen Anschluss in der Onli
 ne-Deliberation“\nResponse: Nina Springer\n\n\n\nAuftaktveranstaltung\nB
 ritische Botschaft in Berlin\, Wilhelmstraße 70-71\, 10117 Berlin-Mitte\n
 \n\n\n19:00 – 21:00\nMaking sense of big data\nDie Tagung wird am Donner
 stag\, den 5. November 2015\, mit einem abendlichen Keynote-Dialog in der 
 Britischen Botschaft starten. Mike Savage (LSE) und Isabelle Sonnenfeld (
 Google News Lab) beschäftigen sich in ihren Dialogvorträgen mit den komp
 lexen Bedeutungen und Auswirkungen von digitalen Medien und Big Data für 
 moderne Gesellschaften.\n\n\n\nFreitag\, 6. November 2015\nFachgruppentagu
 ng (Tag 1)\nUniversität der Künste\, Medienhaus\, Grunewaldstraße 2-5\,
  10823 Berlin-Schöneberg\n\n\n\n9:00 – 9:30\nRegistrierung und Kaffee\n
 \n\n\n9:30 – 10:00\nBegrüßung durch die FachgruppensprecherInnen und d
 ie Tagungsorganisatoren\n\n\n10:00 – 11:30\nPanel 1: Medienkommunikation
  zwischen Komplexität und Vereinfachung: Theoretische Perspektiven\n\n\n1
 1:30 – 11:45\nPause\n\n\n\n11:45 – 13:15\nPanel 2a: Medienarrangement
 s\nPanel 2b: Mediennutzung\n\n\n13:15 – 14:15\nMittagessen\n\n\n\n14:15 
 – 16:15\nPanel 3a: Öffentlichkeiten\nPanel 3b: Medienaneignung\n\n\n16:
 15 – 16:45\nKaffee\n\n\n\n16:45 – 18:15\nPanel 4a: Big Data\nPanel 4b:
  Methoden\n\n\n18:15 – 18:30\nPause\n\n\n\n18:30 – 19:00\nFG-Sitzung\n
 Computervermittelte Kommunikation\nFG-Sitzung\nSoziologie der Medienkommun
 ikation\n\n\nab 19:30\nAbendessen (nicht in der Tagungsgebühr enthalten)\
 n\n\n\nSamstag\, 7. November 2015\nFachgruppentagung (Tag 2)\nUniversität
  der Künste\, Medienhaus\, Grunewaldstraße 2-5\, 10823 Berlin-Schöneber
 g\n\n\n\n09:00 – 09:30\nRegistrierung und Kaffee\n\n\n\n09:30 – 11:00\
 nPanel 5a: Mobile Kommunikation\nPanel 5b: Netzöffentlichkeiten\n\n\n11:
 00 – 11:30\nPause\n\n\n\n11:30 – 12:30\nPanel 6a: Medienökonomie\nPan
 el 6b: Interpersonale Kommunikation\n\n\n12:30 – 13:00\nAbschluss durch 
 die FachgruppensprecherInnen und Tagungsorganisatoren\n\n\n\nProgrammdetai
 ls zur Tagung\nUnten finden Sie die Vorträge zu den einzelnen Panels aufg
 elistet. Ein detaillierteres Programm wird vor der Konferenz veröffentlic
 ht.\n\n\n\nPanel 1: (Plenarvorträge): Medienkommunikation zwischen Kompl
 exität und Vereinfachung: Theoretische Perspektiven (Moderation: Jeffrey 
 Wimmer)\nMarian Adolf (Zeppelin Universität Friedrichshafen): Über den U
 mgang mit Komplexität in der kommunikationswissenschaftlichen Theorienbil
 dung: Prinzipienbasierte Konzeptualisierungen » Abstract (pdf)\nChristian
  Schwarzenegger/Susanne Kinnebrock (beide Universität Augsburg): Komplexi
 tät und Vereinfachung in der Perspektive von Wandel und Kontinuität » A
 bstract (pdf)\nAlexander Görke (FU Berlin): Medienevolutionen: Komplexit
 ät\, Kontingenz und Risiken » Abstract (pdf)\n\n\nPanel 2a: Medienarrang
 ements (Moderation: Cornelius Puschmann)\nAndreas Hepp (Universität Breme
 n): Kommunikative Komplexität analysieren: Netzwerk\, Assemblage\, Figura
 tion » Abstract (pdf)\nMaren Hartmann (UdK Berlin): Eine Kommunikations- 
 und Medienwissenschaft ohne Medien? » Abstract (pdf)\nAndreas Bischof/Mic
 hael Heidt (beide TU Chemnitz): Die Verkomplizierung des Komplexen. Latour
 s Unterscheidung "komplex/kompliziert" als Perspektive auf die Genese von 
 Kommunikations- und Medientechnologien » Abstract (pdf)\n\n\nPanel 2b: Me
 diennutzung (Moderation: Monika Taddicken)\nSevda Can Arslan (Universität
  Mannheim): Komplexitätsreduktion online: „Vertrauen“ statt „Glaubw
 ürdigkeit“: Für eine theoretische Konzeptualisierung von kognitiven He
 uristiken als Gründe für Vertrauen » Abstract (pdf)\nPhilipp Masur (Uni
 versität Hohenheim): WhatsApp oder doch lieber Threema? Privatheitsbedenk
 en und Datenschutzerwägungen bei der Auswahl von Online-Kommunikationsmed
 ien » Abstract (pdf)\nChristian Strippel\, Ada Fehr\, Alexandra Keiner (a
 lle FU Berlin): Verteilte Aufmerksamkeit: Formen des Umgangs mit Komplexit
 ät während der Second-Screen-Nutzung » Abstract (pdf)\n\n\nPanel 3a: Ö
 ffentlichkeiten (Moderation: Marian Adolf)\nBartosz Wilczek/Stephan Ruß-M
 ohl (beide Universität Lugano): Herd Behavior in News Markets: How Journa
 lists Reduce Complexity and Drive Mediatized Scandals » Abstract (pdf)\nA
 nnie Waldherr (FU Berlin): Vernetzung\, Dynamik\, Selbstorganisation: Öff
 entlichkeit als komplexes\, adaptives System » Abstract (pdf)\nJeffrey Wi
 mmer (TU Ilmenau): Medien-Öffentlichkeit als komplexes \,Moving-Target’
  » Abstract (pdf)\nChristoph Neuberger (LMU München): Die Rückkehr der 
 Masse: Zur Analyse interaktiver Massenphänomene im Internet » Abstract (
 pdf)\n\n\nPanel 3b: Medienaneignung (Moderation: Jessica Einspänner-Pfloc
 k)\nSigrid Kannengießer (Universität Bremen): Das Reparieren von Medient
 echnologien zwischen Komplexität und Vereinfachung » Abstract (pdf)\nEli
 zabeth Prommer/Susanne Eichner (beide Universität Rostock): Von der Medie
 nnutzung zu "Doing Media": Multiperspektivität als Theorie- und Forschung
 skonzept » Abstract (pdf)\nCorinna Peil (Universität Salzburg): Mediennu
 tzung im Spannungsfeld von Konvergenz und De-Konvergenz: Zur Ambivalenz me
 dienbezogener Praktiken in digitalen Medienumgebungen » Abstract (pdf)\nL
 aura Sūna (FU Berlin): Populärkulturelle Partizipationspratiken: Die Kon
 zeptualisierung vermeintlich nicht-politischer gesellschaftlicher Teilhabe
  in mediatisierten Welten » Abstract (pdf)\n\n\nPanel 4a: Big Data (Moder
 ation: Maren Hartmann)\nCornelius Puschmann (HIIG): Sozialwissenschaften d
 urch Big Data? Ein "systematic review" zu Methoden\, Daten und Fragestellu
 ngen der Computational Social Science » Abstract (pdf)\nMerja Mahrt (HHU 
 Düsseldorf): Big Data vs. Small Data? Erforschung digitaler Kommunikation
  zwischen Komplexität und Vereinfachung » Abstract (pdf)\nAndreas Breite
 r/Andreas Hepp (beide Universität Bremen): Digitale Spuren: Möglichkeite
 n der „bedeutungsvollen“ Analyse von komplexen Online-Daten » Abstrac
 t (pdf)\n\n\nPanel 4b: Methoden (Moderation: Julia Niemann)\nKatja Kaufman
 n (Österreichische Akademie der Wissenschaften): Mobil\, vernetzt\, gerä
 teübergreifend: Die Komplexität alltäglicher Smartphone-Nutzung als met
 hodische Herausforderung » Abstract (pdf)\nImke Hoppe/Ines Lörcher/Irene
  Neverla/Bastian Kießling (alle Universität Hamburg): Gespräch zwischen
  vielen oder Monologe von einzelnen? Das Konzept "Interaktivität" und sei
 ne Eignung für die inhaltsanalytische Erfassung der Komplexität von Onli
 ne-Kommentaren » Abstract (pdf)\n\n\nPanel 5a: Mobile Kommunikation (Mod
 eration: Christian Strippel)\nPeter Gentzel (Universität Leipzig): Mobile
  Kommunikationspraktiken zwischen Komplexität und Vereinfachung: Empirisc
 he Befunde und interdisziplinäre Diskussionsräume » Abstract (pdf)\nSte
 phan Görland (Universität Rostock): Katalysator des Lebenstempos? Mobile
 r Medienkonsum und soziale Beschleunigung » Abstract (pdf)\nBernadette Kn
 eidinger-Müller (Universität Bamberg): Die neue Mehrdimensionalität int
 erpersonaler Kommunikation. Kommunikatives Handeln im Spannungsfeld zwisch
 en Mobil- und Face-to-Face-Kommunikation » Abstract (pdf)\n\n\nPanel 5b: 
 Netzöffentlichkeiten (Moderation: Annie Waldherr)\nMario Anastasiadis/Jes
 sica Einspänner-Pflock (beide Universität Bonn): Vereinfachung oder Verf
 lachung? Politische Kommunikation auf und mit Twitter aus Sicht politisch 
 interessierter NutzerInnen » Abstract (pdf)\nIlka Jakobs/Johannes Beckert
  (beide Universität Mainz): Pöbeln\, weil es alle andern auch tun? Zur K
 omplexität der Beteiligungsmechanismen an Shitstorms » Abstract (pdf)\nM
 irco Saner/Vincenzo Francolino/Philipp Kuntschik (alle HTW Chur): Gemecker
 e auf Knopfdruck. Komplexitätsreduktion durch computerunterstützte Inhal
 tsanalyse nationaler Medienkritik » Abstract (pdf)\n\n\nPanel 6a: Medien
 ökonomie (Moderation: Elizabeth Prommer)\nChristopher Buschow/Carsten Win
 ter (beide HMTM Hannover): Die neue Komplexität vernetzten Medienmanageme
 nts » Abstract (pdf)Elfriede Fürsich (FU Berlin): Innovation als Ideolog
 ie: Die kulturelle Logik und politische Ökonomie des jüngsten Medienwand
 els am Beispiel Berlins » Abstract (pdf)\n\n\nPanel 6b: Interpersonale Ko
 mmunikation (Moderation: Sigrid Kannengießer)\nRosina Bischur/Christian S
 trippel (beide FU Berlin): Doppelte Kontingenz Online: Der Umgang mit Komp
 lexität am Beispiel der Dating-App Tinder » Abstract (pdf)\nJulia Nieman
 n/Anja Briehl/Michael Schenk (alle Universität Hohenheim): Parasoziale In
 teraktion und Beziehung im Social Web. Konzeptionelle Erweiterung und empi
 rische Befunde » Abstract (pdf)\n\n\n\nVeranstaltungsort\n\n\n\nDoktorand
 enkolloquium\nWZB Wissenschaftszentrum Berlin für Sozialforschung\nReichp
 ietschufer 50\n10785 Berlin-Tiergarten\nAuftaktveranstaltung\nBritische Bo
 tschaft in Berlin\nWilhelmstraße 70-71\n10117 Berlin-Mitte\nTagung\nUnive
 rsität der Künste\, Medienhaus\nGrunewaldstraße 2-5\n10823 Berlin-Schö
 neberg\n\n\n\n\nTeilnahme\nDie Anmeldung für die Tagung ist bis zum 1. No
 vember 2015 auf dieser Seite möglich (Early Bird Tarife verlängert bis z
 um 04.10.15). Anmeldung und Bezahlung vor Ort werden nicht möglich sein. 
 Sollten Sie Fragen oder Probleme mit den Anmeldeformalitäten haben\, wend
 en Sie sich bitte an Christian Pentzold (christian.pentzold@hiig.de).\nOrg
 anisation\nFür die Fachgruppe Computervermittelte Kommunikation der DGPuK
 \nChristina Schumann (christina.schumann@tu-ilmenau.de)\nMonika Taddicken 
 (m.taddicken@tu-braunschweig.de)\n\nFür die Fachgruppe Soziologie der Med
 ienkommunikation der DGPuK\nJeffrey Wimmer (jeffrey.wimmer@tu-ilmenau.de)\
 nMarian Adolf (marian.adolf@zu.de)\nSigrid Kannengießer (sigrid.kannengie
 sser@uni-bremen.de)\n\nFür das ausrichtende Institut Alexander von Humbol
 dt Institut für Internet und Gesellschaft\nChristian Katzenbach (katzenba
 ch@hiig.de)\nChristian Pentzold (christian.pentzold@hiig.de)\n\nMit freund
 licher Unterstützung von\n\n
CATEGORIES:Events vor 2018 ohne Titelbild,Themen im Fokus
LOCATION:Wechselnde Veranstaltungsorte\, Details unten beachten\, –\, Deu
 tschland
X-APPLE-STRUCTURED-LOCATION;VALUE=URI;X-ADDRESS=Details unten beachten\, 
 –\, Deutschland;X-APPLE-RADIUS=100;X-TITLE=Wechselnde Veranstaltungsorte
 :geo:0,0
END:VEVENT
BEGIN:VTIMEZONE
TZID:Europe/Berlin
X-LIC-LOCATION:Europe/Berlin
BEGIN:STANDARD
DTSTART:20151025T020000
TZOFFSETFROM:+0200
TZOFFSETTO:+0100
TZNAME:CET
END:STANDARD
END:VTIMEZONE
END:VCALENDAR