BEGIN:VCALENDAR
VERSION:2.0
PRODID:-//wp-events-plugin.com//7.2.3.1//EN
TZID:Europe/Berlin
X-WR-TIMEZONE:Europe/Berlin
BEGIN:VEVENT
UID:1114@hiig.de
DTSTART;TZID=Europe/Berlin:20230627T123000
DTEND;TZID=Europe/Berlin:20230627T133000
DTSTAMP:20230620T124752Z
URL:https://www.hiig.de/events/lunch-talk-the-theory-of-artificial-immutab
 ility-protecting-algorithmic-groups-under-anti-discrimination-law/
SUMMARY:Lunch Talk | The Theory of Artificial Immutability: Protecting Algo
 rithmic Groups under Anti-Discrimination Law
DESCRIPTION:In diesem Lunch-Talk befassen wir uns mit der Berücksichtigung
  algorithmischer Gruppen im Antidiskriminierungsrecht.
ATTACH;FMTTYPE=image/jpeg:https://www.hiig.de/wp-content/uploads/2023/06/W
 ebsite-LunchTalk-270623-–-1.png
LOCATION:Humboldt Institut für Internet und Gesellschaft\, Französische S
 traße 9\, Berlin\, 10117\, Deutschland
X-APPLE-STRUCTURED-LOCATION;VALUE=URI;X-ADDRESS=Französische Straße 9\, B
 erlin\, 10117\, Deutschland;X-APPLE-RADIUS=100;X-TITLE=Humboldt Institut f
 ür Internet und Gesellschaft:geo:0,0
END:VEVENT
BEGIN:VTIMEZONE
TZID:Europe/Berlin
X-LIC-LOCATION:Europe/Berlin
BEGIN:DAYLIGHT
DTSTART:20230326T030000
TZOFFSETFROM:+0100
TZOFFSETTO:+0200
TZNAME:CEST
END:DAYLIGHT
END:VTIMEZONE
END:VCALENDAR