BEGIN:VCALENDAR
VERSION:2.0
PRODID:-//wp-events-plugin.com//7.2.3.1//EN
TZID:Europe/Berlin
X-WR-TIMEZONE:Europe/Berlin
BEGIN:VEVENT
UID:1061@hiig.de
DTSTART;TZID=Europe/Berlin:20221214T130000
DTEND;TZID=Europe/Berlin:20221214T140000
DTSTAMP:20221208T104013Z
URL:https://www.hiig.de/events/lunch-talk-series-digitalisation-sustainabi
 lity-entrepreneurship/
SUMMARY:Lunch Talk Series I Digitalisation\, Sustainability & Entrepreneurs
 hip
DESCRIPTION:In dieser Lunch-Talk Reihe befassen wir uns mit digitalen Wegen
 \, die zu Nachhaltigkeit führen. 
ATTACH;FMTTYPE=image/jpeg:https://www.hiig.de/wp-content/uploads/2022/11/W
 ebsite_Banner_Lunch-Talk_2023-–-5.png
LOCATION:Online\, HIIG\, Berlin\, Deutschland
X-APPLE-STRUCTURED-LOCATION;VALUE=URI;X-ADDRESS=HIIG\, Berlin\, Deutschland
 ;X-APPLE-RADIUS=100;X-TITLE=Online:geo:0,0
END:VEVENT
BEGIN:VTIMEZONE
TZID:Europe/Berlin
X-LIC-LOCATION:Europe/Berlin
BEGIN:STANDARD
DTSTART:20221030T020000
TZOFFSETFROM:+0200
TZOFFSETTO:+0100
TZNAME:CET
END:STANDARD
END:VTIMEZONE
END:VCALENDAR