BEGIN:VCALENDAR
VERSION:2.0
PRODID:-//wp-events-plugin.com//7.2.3.1//EN
TZID:Europe/Berlin
X-WR-TIMEZONE:Europe/Berlin
BEGIN:VEVENT
UID:757@hiig.de
DTSTART;TZID=Europe/Berlin:20191118T130000
DTEND;TZID=Europe/Berlin:20191118T140000
DTSTAMP:20191111T130342Z
URL:https://www.hiig.de/events/lunch-talk-marc-smith/
SUMMARY:Charting Collections of Connections in Social Media - Lunch Talk wi
 th Marc Smith
DESCRIPTION:Am 18. November findet ein öffentlicher Brown-bag Lunch mit Dr
 . Marc A. Smith\,  Co-Founder der Social Media Research Foundation statt.
  Er beschäftigt sich mit Netzwerken im sozialen Cyberspace und deren Visu
 alisierung. Die Social Media Research Foundation hat dazu das Tool NodeXL
  entwickelt. Die Veranstaltung findet auf Englisch statt\, weitere Informa
 tionen untenstehend.\n\n&nbsp\;\nO P E N    B R O W N – B A G   L U 
 N C H\nCharting Collections of Connections in Social Media –\nLunch Talk
  with Marc Smith\nMonday\, 18 November 2019 ·  1 pm · HIIG Kitchen\n&nb
 sp\;\n\nWe now live in a sea of tweets\, posts\, blogs\, and updates comin
 g from a significant fraction of the people in the connected world. Social
  media can be a bewildering stream of comments\, a daunting fire hose of c
 ontent. As more social interactions move through machine-readable data set
 s new insights and illustrations of human relationships and organizations 
 become possible.  But new forms of data require new tools to collect\, an
 alyze\, and communicate insights.\n\nThe Social Media Research Foundation 
 formed to develop open tools and open data sets\, and to foster open schol
 arship related to social media. The Foundation has released the NodeXL pro
 ject\, a spreadsheet add-in that supports "network overview discovery and 
 exploration". Users can easily make a map of public social media conversat
 ions around topics that matter to them. Maps of the connections among the 
 people who recently said the name of a product\, brand or event can reveal
  key positions and clusters in the crowd. The tool allows non-programmers 
 to quickly generate useful network statistics and metrics and create visua
 lizations of network graphs.\n\nDr. Marc A. Smith is a sociologist special
 izing in the social organization of online communities and computer mediat
 ed interaction. Smith leads the Connected Action consulting group and live
 s and works in Silicon Valley\, California. Smith co-founded and directs t
 he Social Media Research Foundation\, a non-profit devoted to open tools\,
  data\, and scholarship related to social media research. Smith's research
  focuses on computer-mediated collective action: the ways group dynamics c
 hange when they take place in and through social cyberspaces. Smith's goal
  is to visualize these social cyberspaces\, mapping and measuring their st
 ructure\, dynamics and life cycles.
ATTACH;FMTTYPE=image/jpeg:https://www.hiig.de/wp-content/uploads/2019/05/b
 ag-bags-brown-21436-Cropped.jpg
CATEGORIES:Meetup: Impact of Science,Themen im Fokus
LOCATION:Humboldt Institut für Internet und Gesellschaft\, Französische S
 traße 9\, Berlin\, 10117\, Deutschland
X-APPLE-STRUCTURED-LOCATION;VALUE=URI;X-ADDRESS=Französische Straße 9\, B
 erlin\, 10117\, Deutschland;X-APPLE-RADIUS=100;X-TITLE=Humboldt Institut f
 ür Internet und Gesellschaft:geo:0,0
END:VEVENT
BEGIN:VTIMEZONE
TZID:Europe/Berlin
X-LIC-LOCATION:Europe/Berlin
BEGIN:STANDARD
DTSTART:20191027T020000
TZOFFSETFROM:+0200
TZOFFSETTO:+0100
TZNAME:CET
END:STANDARD
END:VTIMEZONE
END:VCALENDAR