BEGIN:VCALENDAR
VERSION:2.0
PRODID:-//wp-events-plugin.com//7.2.3.1//EN
TZID:Europe/Berlin
X-WR-TIMEZONE:Europe/Berlin
BEGIN:VEVENT
UID:1188@hiig.de
DTSTART;TZID=Europe/Berlin:20231031T120000
DTEND;TZID=Europe/Berlin:20231031T130000
DTSTAMP:20231026T061726Z
URL:https://www.hiig.de/events/lunch-talk-abstruse-characteristics-of-peop
 le-participation/
SUMMARY:Lunch Talk: Abstruse Characteristics of People Participation
DESCRIPTION:In seinem Lunch Talk spricht Sharique Hassan Manazir über Bür
 gerpartizipation durch digitale Plattformen in Indien.
ATTACH;FMTTYPE=image/jpeg:https://www.hiig.de/wp-content/uploads/2023/10/W
 ebseite-Digitaler-Lunchtalk-31-October-2023–-1.png
LOCATION:Online\, HIIG\, Berlin\, Deutschland
X-APPLE-STRUCTURED-LOCATION;VALUE=URI;X-ADDRESS=HIIG\, Berlin\, Deutschland
 ;X-APPLE-RADIUS=100;X-TITLE=Online:geo:0,0
END:VEVENT
BEGIN:VTIMEZONE
TZID:Europe/Berlin
X-LIC-LOCATION:Europe/Berlin
BEGIN:STANDARD
DTSTART:20231029T020000
TZOFFSETFROM:+0200
TZOFFSETTO:+0100
TZNAME:CET
END:STANDARD
END:VTIMEZONE
END:VCALENDAR