BEGIN:VCALENDAR
VERSION:2.0
PRODID:-//wp-events-plugin.com//7.2.3.1//EN
TZID:Europe/Berlin
X-WR-TIMEZONE:Europe/Berlin
BEGIN:VEVENT
UID:334@hiig.de
DTSTART;TZID=Europe/Berlin:20160611T170000
DTEND;TZID=Europe/Berlin:20160611T235000
DTSTAMP:20231220T145551Z
URL:https://www.hiig.de/events/lndw2016/
SUMMARY:Lange Nacht der Wissenschaften
DESCRIPTION:Verändert Whistleblowing unsere Gesellschaft? Wie lässt sich 
 die Online-Kommunikation von rechtspopulistischen Bewegungen analysieren? 
 Was hat die Energiewende mit dem Internet zu tun? Wie werden wir uns in Zu
 kunft informieren? Und kann man das Internet regulieren?\n\nAm 11. Juni 20
 16 wird das HIIG erstmals zur Langen Nacht der Wissenschaften seine Türen
  öffnen\, um Ihnen in einem vielfältigen Programm unsere Forschungsaktiv
 itäten vorzustellen. Neben der Vortragsreihe »Wissenschaft im Kurzformat
 « gibt es verschiedene Stationen um »Wissenschaft mal anders« zu erlebe
 n. Auf unserer Terrasse laden wir Sie ein\, bei Drinks und Snacks zum Inte
 rnet zu tanzen.\n\n[photospace ids="28190\,28185\,28193\,28182\,28183\,281
 81\,28184\,28186\,28187\,28188\,28189\,28191\,28192\,28194\,28195\,28196\,
 28197\,28198\,28199\,28200\,28201\,28202\,28203\,28204\,28205\,28206\,2820
 7\,28208\,28209"]\n\nProgramm\n\nWissenschaft im Kurzformat\nIn 10 Minuten
  werden unser WissenschaftlerInnen ihre Forschung präsentieren und sich a
 nschließend den Fragen des Publikums stellen. Aha-Effekt nicht ausgeschlo
 ssen.\n\n\n\n17:00\nIngolf Pernice\n"Wissenschaft zu Internet und Gesellsc
 haft": Mit der Allgegenwart Internet-basierter Dienste geht ein strukturel
 ler Wandel unserer Gesellschaft einher\, der zu täglich neuen Fragestellu
 ngen führt. Ingolf Pernice stellt in seiner Begrüßung unser Forschungsi
 nstitut vor und veranschaulicht\, wie vielfältig Wissenschaft zu Internet
  und Gesellschaft sein kann. Ingolf Pernice ist Forschungsdirektor am HIIG
 . Bis Herbst 2015 war er Direktor des Walter Hallstein-Instituts für Euro
 päisches Verfassungsrecht sowie Professor für öffentliches Recht\, Völ
 ker- und Europarecht an der Humboldt-Universität zu Berlin. In seiner For
 schung beschäftigt er sich mit dem zunehmend Bedarf effektiver Regelsetzu
 ng jenseits des Staates.\n\n\n17:30\nJulian Ausserhofer\n"Wissenschaft und
  Datenjournalismus: Eine Kartographie des neuen Extremismus in Europa": In
  den letzten Jahren wurden in Europa zahlreiche Bewegungen am rechten Ende
  des politischen Spektrums gegründet. Während PEGIDA\, die Identitären 
 und viele andere Bewegungen sich in zahlreichen Aspekten unterscheiden\, t
 eilen sie ähnliche Strategien in ihrer Kommunikation. Julian Ausserhofer 
 zeigt\, wie sich die Online-Kommunikation von rechtspopulistischen Bewegun
 gen analysieren lässt. Julian Ausserhofer ist Kommunikationswissenschaftl
 er und assoziierter Forscher am HIIG. Als Teil des Forschungsprojekts »Ne
 tworks of Outrage« ergründet und kartographiert er die Social-Media-Komm
 unikation von sogenannten Empörungsbewegungen verschiedener europäischer
  Länder bis auf die Ebene individueller Meinungsführer.\n\n\n18:00\nDie 
 große Wissenschaftsshow\nLiveübertragung aus der TU Berlin (mit Theresa 
 Züger)\n\n\n19:00\nLies van Roessel und Christian Katzenbach\n"Von Copyca
 ts und Klonkriegern: Die Gamesbranche zwischen Innovation und Imitation": 
 Tetris und Bejewled\, Space Invaders und Asteroids\, Threes und 2048 – 
 Ähnlichkeiten oder gar Imitationen sind in der Gamesbranche keine Seltenh
 eit. Lies van Roessel und Christian Katzenbach wagen einen etwas anderen B
 lick auf Urheberrechtsdebatten und präsentieren die Geschichte von Comput
 erspielen als Geschichte des Kopierens.Lies van Roessel ist Games-Designer
 in\, Kommunikationswissenschaftlerin und assoziierte Forscherin am HIIG. Z
 usammen mit Christian Katzenbach\, ebenfalls Kommunikationswissenschaftler
 \, forscht sie zu Urheberrecht im Spielesektor und der Fragestellung\, wie
  sich die Regulierung auf Nachahmungen und Innovationen auswirkt.\n\n\n19:
 30\nHendrik Send\n"Die Energiewende\, das Internet und ich?!": Dass der St
 rom nicht einfach so aus der Steckdose kommt ist den meisten klar\, was ge
 nau nun aber ein Prosumer ist und wie jeder Einzelne von uns die Energiewe
 nde mitgestalten kann\, ist ungleich schwerer zu beantworten. Hendrik Send
  beleuchtet die Mühen und Möglichkeiten der smarten Energieproduktion un
 d -nutzung in Zeiten des Internets.Hendrik Send ist Innovationsforscher\, 
 Marketingprofessor und leitet das Forschungsprojekt »Nutzerinnovation am 
 Energiemarkt«. Er untersucht\, welche Gründe Nutzer zur Innovation antre
 iben und wann sie sich für intelligente Stromtechnologien interessieren\,
  diese implementieren\, sich in Online-Foren und offenen Werkstätten mit 
 Gleichgesinnten darüber austauschen und diese weiterentwickeln.\n\n\n20:0
 0\nKirsten Gollatz\n"My place\, my rules! Wie Plattformen entscheiden was 
 wir online sagen können": Der Vortrag von Rike Maier »Copyright: Y U Not
  Leave Memes Alone« muss krankheitsbedingt leider ausfallen. Kirsten Goll
 atz wird an dieser Stelle einen Vortrag zu Social Media Plattformen\, dere
 n Regulierungsmechanismen und Einfluss auf die Meinungsfreiheit im Interne
 t halten.\n\n\n20:30\nJeanette Hofmann und Wolfgang Schulz\n"Feinschmecker
 forschung: Die Riesling-Regulierung in Zeiten nutzergenerierter Cocktails"
 : Was\, wenn man die Fragen um die Regulierung des Internets mal aus einem
  ganz anderen Blickwinkel betrachten würde? Anhand der Selbstregulierung 
 des Weinbaus zeigen Jeanette Hofmann und Wolfgang Schulz\, dass ein Perspe
 ktivwechsel nicht nur unterhaltsam\, sondern auch fruchtbar für die Forsc
 hung sein kann. Jeanette Hofmann und Wolfgang Schulz sind Forschungsdirekt
 oren des HIIG und waren beide beratend in der Enquette-Kommission Internet
  und digitale Gesellschaft des Deutschen Bundestags tätig. Sowohl die Pol
 itikwissenschaftlerin als auch der Rechtswissenschaftler beschäftigen sic
 h mit Fragen zur Regulierung des Internets.\n\n\n21:30\nSascha Friesike\n"
 Remix: Alles Neue ist schon da\, es muss nur noch rekombiniert werden": Na
 ch Sascha Friesike sind eigentlich alle Erfindungen Rekombinationen aus be
 kannten Bausteinen. Sie sind Remixe. Und so wurde vor 5.500 Jahren das Rad
  auch nicht einfach erfunden\, es wurde rekombiniert. Am Beispiel der 3D-D
 ruck-Community veranschaulicht Sascha Friesike\, wie Innovationen entstehe
 n. Sascha Friesike ist Wirtschaftsingenieur und Professor für Betriebswir
 tschaftslehre. Am HIIG leitet er den Forschungsbereich »Internetbasierte 
 Innovation«. Damit geht er der Frage nach\, wie das Internet die Interakt
 ion zwischen Individuen\, Unternehmen und Institutionen verändert und die
  Entwicklung neuer Technologien\, Geschäftsmodelle\, Formen der Unternehm
 ens­finanzierung und Beschäftigung fördert.\n\n\n22:00\nBenedikt Fecher
  \n"Heute schon geforscht? Und erst übermorgen publiziert?": Zwischen Qu
 alitätssicherung und Zugänglichkeit: Benedikt Fecher erklärt die Mechan
 ismen wissenschaftlichen Publizierens und warum es bis zur Veröffentlichu
 ng eines Artikels in einem Journal gut und gerne zwei Jahre dauern kann. E
 r fragt: »Ist das noch zeitgemäß? Und welche Alternativen gibt es?« Be
 nedikt Fecher ist Sozialwissenschaftler und Teil des Doktorandenkollegs am
  HIIG. In seiner Dissertation behandelt er Bedingungen der offenen Bereits
 tellung und Nachnutzung von Forschungsdaten in der akademischen Forschung.
  Zu seinen Forschungsinteressen gehören wissenschaftliche Kollaboration\,
  Entwicklungen im wissenschaftlichen Publizieren und neue Formen der Wisse
 nschaftskommunikation.\n\n\n22:30\nHannfried Leisterer\n"Schreckensszenari
 o Cybersicherheit": Das Internet ist eine globale Infrastruktur und endet 
 nicht an unseren Landesgrenzen. Mit der zunehmenden Digitalisierung und Ve
 rnetzung wird die Sicherheit immer mehr zur Herausforderung. Doch wie gehe
 n einzelne Staaten mit einem globalen Problem um? Ob Hannfried Leisterer f
 ür dieses Problem eine Lösung hat? Hannfried Leisterer ist Rechtswissens
 chaftler und Teil des Doktorandenkollegs am HIIG. Als Mitglied des Kompete
 nznetzwerks für das Recht der zivilen Sicherheit in Europa arbeitet er in
  seiner Dissertation zum Thema Internetsicherheit in Europa.\n\n\n23:00\nT
 heresa Züger\n"Digitaler Ungehorsam: Von Cypherpunks bis Edward Snowden":
  Die Mächtigen der digitalen Ära repräsentieren nur eine Seite der Gesc
 hichte des Internets. Seit den frühen Jahren der Entstehung des Internets
  existiert eine Kultur des Widerstands gegen politische und privatwirtscha
 ftliche Autoritäten\, die deren Kontrolle über Information in Frage stel
 lt und sich ihr aktiv widersetzt. Theresa Züger beleuchtet das ungehorsam
 e Kapitel des Internets. Theresa Züger ist Medienwissenschaftlerin und Te
 il des Doktorandenkollegs am HIIG. In Ihrer Dissertation forscht Sie zu Fr
 agen des digitalen zivilen Ungehorsams. Zu ihren Forschungsinteressen geh
 ören Demokratietheorie\, Hannah Arendts politische Theorie\, digitaler Ak
 tivismus und Whistleblowing.\n\n\n\nWissenschaft mal anders\nAn verschiede
 nen Stationen zeigen unsere WissenschaftlerInnen\, welchen Forschungsfrage
 n sie nachgehen. Mal anschaulich\, mal spielerisch möchten wir Sie zu ein
 em Gespräch einladen.\n\n\n\n17:30 und 19:30\nMitmachexperiment\n"How to 
 start a startup?": Versetzen Sie sich in den Gründungsprozess und besuche
 n Sie unsere Startup Clinics: Welche Unternehmensform wählen Sie für Ihr
  Unternehmen? Wie setzen Sie Ihre Website rechtskonform auf und was hat Da
 tenschutz mit Ihrer App zu tun? Nuri Khadem und Tobias Schneider stehen Ih
 nen Rede und Antwort und bringen Licht in das Land der Paragraphen und des
  Projektmanagements. Nuri Khadem ist Rechtswissenschaftler und assoziierte
 r Forscher am HIIG. Zusammen mit Tobias Schneider\, Wirtschaftsingenieur u
 nd assoziierter Doktorand am HIIG\, unterstützt er die Startup Clinics un
 d bietet GründerInnen die Möglichkeit\, eine konkrete Herausforderung be
 im Aufbau ihres Startups zu lösen.\n\n\n19:30 und 22:30\nQuiz\n"Legal ode
 r illegal?": Legal oder illegal\, das ist hier die Frage! Spielen Sie mit 
 unserem Quizmaster und beweisen Sie Ihr Wissen hinsichtlich Urheberrecht\,
  Datenschutz und Internetsicherheit - sachkenntliche Erklärungen durch un
 seren charmanten Quizmaster inklusive.\n\n\n17:00 – 24:00\nInfostand\n"
 Das Einmaleins des Gründens": Sie wollen Internet-UnternehmerIn werden? O
 der wollen wissen was sich hinter dem viel zitierten Begriff Startup verbi
 rgt? Konstanze Neumann verrät\, was diese jungen und innovativen Unterneh
 men ausmacht und wie sie es schaffen\, ein erfolgreiches Unternehmen aufzu
 bauen. Vielleicht kommen Sie während dieser Nachtschicht auf eine zünden
 de Idee?Konstanze Neumann liegt in den letzten Zügen ihres Masters der So
 zialwissenschaften an der HU Berlin. Am HIIG ist sie im Team »Innovation 
 und Entrepreneurship« für jegliche Startup-Belange zuständig: Sie organ
 isiert Veranstaltungen der Startup Clinics-Reihe sowie Workshops für Grü
 nderInnen. Als Mitgründerin des Hardware-Accelerators AtomLeap ist sie au
 ch selbst aktiv in der Gründerszene unterwegs.\n\n\n17:00 – 24:00\nMit
 machexperiment\n"High score oder game over: Was ist hier das Plagiat?": De
 r Fall »2048« gegen »Threes« ist nur ein aktuelles Beispiel in einer l
 angen Geschichte von Streitigkeiten um Ideen und Copyrights. Spielen Sie m
 it uns und entscheiden Sie selbst\, wo Inspiration aufhört und das Plagia
 t anfängt. Lies van Roessel ist Games-Designerin\, Kommunikationswissensc
 haftlerin und assoziierte Forscherin am HIIG. Zusammen mit Christian Katze
 nbach\, ebenfalls Kommunikationswissenschaftler\, forscht sie zu Urheberre
 cht im Spielesektor und der Fragestellung\, wie sich die Regulierung auf N
 achahmungen und Innovationen auswirkt.\n\n\n17:00 – 24:00\nMitmachexper
 iment\n"3D-Druck: Eine neue Ära der Produktion?": Sie brauchen ein Ersatz
 teil\, einen Spielzeugdinosaurier für Ihre Tochter oder doch das neue Bri
 llengestell? Erleben Sie einen 3D-Drucker live in Aktion und erkunden Sie\
 , was hinter dieser Technologie steckt\, die es ermöglicht Gegenstände o
 hne den Einsatz zusätzlicher Maschinen auf Basis digitaler\, dreidimensio
 naler Modelle durch einen schichtweisen Aufbau entstehen zu lassen.\n\n\n1
 7:30 – 24:00\nVideostation\n"Großes Kino: Qualitätsinhalte auf YouTube
 ?": Sie kennen Game of Thrones und LeFloid? Dazwischen liegen Welten\, sow
 ohl vom Inhalt als auch vom Konzept. Was aber ist mit anspruchsvollen fikt
 ionalen Serien auf YouTube? Urs Kind präsentiert die Comedy Webserie »Da
 s Apartment« und zeigt die Notwendigkeit\, den medialen Wandel mit entspr
 echender Forschung zu begleiten. Urs Kind ist Kultur- und Medienwissenscha
 ftler\, studierte Produktion an der Filmuniversität Babelsberg und ist Te
 il des Doktorandenkollegs am HIIG. In seiner Dissertation forscht er zur Z
 ukunft der Film- und Fernsehbranche. Er ist Produzent der Webserie »Das A
 partment«\, die das chaotische Zusammenleben einer Mitdreißiger-WG in Be
 rlin beschreibt.\n\n\n17:00 – 24:00\nVideostation\nIst die Partnersuche
  per Smartphone völlig unromantisch oder die digitale Ergänzung unseres 
 ökonomischen Verhaltens\, wenn es um die Suche nach Liebe geht? Führt un
 s die Crowd an den einsamen Strand? Wie individuell reisen wir mit Bewertu
 ngsplattformen\, Reiseblogs und Privatunterkünften mit Hotelkomfort? Lass
 et uns Tweeten? Kann das Internet Raum für spirituelle Begegnung sein?Der
  Digitale Salon ist eine Radiosendung des HIIG in Kooperation mit DRadio W
 issen. Besuchen Sie den Ort\, an dem der Digitale Salon aufgezeichnet wird
  und klicken Sie sich durch unser Archiv!\n\n\n17:00 – 24:00\nDrinks un
 d Musik\n"Sommernetztraum": Über das Internet zu reden ist wie zu Archite
 ktur zu tanzen. Reden Sie mit! Tanzen Sie mit!\n\n\n\nTickets\nTickets sin
 d ab dem 9. Mai für 14 EUR\, ermäßigt 9 EUR bei S-Bahn\, BVG\, an den C
 TS-Verkaufsstellen sowie online erhältlich. Es gibt zudem Tickets an der 
 Abendkasse des HIIG.\n\nMehr Infos auf der Website der langen Nacht der Wi
 ssenschaften.
ATTACH;FMTTYPE=image/jpeg:https://www.hiig.de/wp-content/uploads/2016/05/l
 ndw-2016-banner-web.jpg
CATEGORIES:Events vor 2018 ohne Titelbild,Themen im Fokus
LOCATION:Humboldt Institut für Internet und Gesellschaft\, Französische S
 traße 9\, Berlin\, 10117\, Deutschland
X-APPLE-STRUCTURED-LOCATION;VALUE=URI;X-ADDRESS=Französische Straße 9\, B
 erlin\, 10117\, Deutschland;X-APPLE-RADIUS=100;X-TITLE=Humboldt Institut f
 ür Internet und Gesellschaft:geo:0,0
END:VEVENT
BEGIN:VTIMEZONE
TZID:Europe/Berlin
X-LIC-LOCATION:Europe/Berlin
BEGIN:DAYLIGHT
DTSTART:20160327T030000
TZOFFSETFROM:+0100
TZOFFSETTO:+0200
TZNAME:CEST
END:DAYLIGHT
END:VTIMEZONE
END:VCALENDAR