BEGIN:VCALENDAR
VERSION:2.0
PRODID:-//wp-events-plugin.com//7.2.3.1//EN
TZID:Europe/Berlin
X-WR-TIMEZONE:Europe/Berlin
BEGIN:VEVENT
UID:107@hiig.de
DTSTART;TZID=Europe/Berlin;VALUE=DATE:20120913
DTEND;TZID=Europe/Berlin;VALUE=DATE:20120915
DTSTAMP:20190220T101308Z
URL:https://www.hiig.de/events/konferenz-the-internet-and-human-rights/
SUMMARY:Konferenz: "The Internet and Human Rights"
DESCRIPTION:\n\nWas der Begriff «Internetfreiheit» genau beinhaltet erkl
 ären wissenschaftliche Disziplinen und gesellschaftliche Stakeholder unt
 erschiedlich. Über die letzten Jahre hat sich jedoch ein gemeinsamer Dis
 kussionsrahmen entwickelt\; und zwar die «Freiheit des Internet» als ein
  Prinzip der universellen Menschenrechte zu sehen. Die sich daraus ergebe
 nden Bedingungen und Verantwortungen für das Handeln von Regierungen\, d
 en privaten Sektor und zivilgesellschaftliche Organisationen im digitalen
  Zeitalter werden global diskutiert.\n\nGemeinsam mit der Aarhus Universi
 tät\, Human Rights Watch und dem Auswärtigen Amt setzt das Alexander vo
 n Humboldt Institut für Internet und Gesellschaft diese Diskussion mit ei
 ner internationalen Konferenz fort. Die zweite Berlin Cyberspace-Conferen
 ce mit dem Titel «The Internet and Human Rights: Building a free\, open 
 and secure Internet» findet am 13. und 14. September 2012 statt.\n\n\n\n
  PDF ansehen \nVollständiges Programm\n\n\n Webseite besuchen\nOffizielle
  Webseite der Konferenz\n\n\n\n&nbsp\;\n\n&nbsp\;\n\n
CATEGORIES:Themen im Fokus
LOCATION:Ehemalige Institutsräume des HIIG | Raum E27\, Bebelplatz 1\, Ber
 lin\, 10117\, Deutschland
X-APPLE-STRUCTURED-LOCATION;VALUE=URI;X-ADDRESS=Bebelplatz 1\, Berlin\, 101
 17\, Deutschland;X-APPLE-RADIUS=100;X-TITLE=Ehemalige Institutsräume des 
 HIIG | Raum E27:geo:0,0
END:VEVENT
BEGIN:VTIMEZONE
TZID:Europe/Berlin
X-LIC-LOCATION:Europe/Berlin
BEGIN:DAYLIGHT
DTSTART:20120325T030000
TZOFFSETFROM:+0100
TZOFFSETTO:+0200
TZNAME:CEST
END:DAYLIGHT
END:VTIMEZONE
END:VCALENDAR