BEGIN:VCALENDAR
VERSION:2.0
PRODID:-//wp-events-plugin.com//7.2.3.1//EN
TZID:Europe/Berlin
X-WR-TIMEZONE:Europe/Berlin
BEGIN:VEVENT
UID:278@hiig.de
DTSTART;TZID=Europe/Berlin;VALUE=DATE:20151119
DTEND;TZID=Europe/Berlin;VALUE=DATE:20151120
DTSTAMP:20231220T145652Z
URL:https://www.hiig.de/events/konferenz-changing-the-picture-2015/
SUMMARY:Konferenz: CHANGING THE PICTURE 2015
DESCRIPTION:\n\nDie Film- und Fernsehbranche muss sich beständig dem wac
 hsenden Einsatz von digitalen Datenträgern und IT-Technologien stellen. D
 araufhin versuchen Produzenten\, IT-Experten und die Unterhaltungsindustri
 e den Wandel der Branche mitzugestalten und Visionen der Medientechnologi
 en aufzuzeigen. Wie verändert sich also das bewegt Bild im 21. Jahrhunder
 t? welche Rolle spielen Vernetzung\, Virtual Reality und neueste Innovatio
 nen in der IT-Branche?\n\nCHANGING THE PICTURE ist eine Technologiekonfer
 enz am 19. November\, die sich diesen Herausforderungen stellt und mit ei
 nem praktischen Ansatz\, Visionen und Trends der Medientechnologien aufzei
 gt. Zusammen mit Sendervertretern\, Produzenten\, Produktionsdienstleiste
 rn\, Vertriebsunternehmen\, Technologiefirmen\, Vertreter der Entertainmen
 t-industrie und Kreativen findet die Konferenz bereits zum dritten Mal in
  Babelsberg statt.\n\nDas eintägige Programm stellt den Teilnehmern die 
 neusten Use Cases vor und überzeugt mit technologischer Expertise in der
  Produktion und Distribution von Inhalten für TV\, Kino und Internet. D
 ie diesjährige Veranstaltung fokussiert insbesondere Technologien in den 
 Bereichen Virtual und Augmented Reality\, Quality TV oder moderne Distrib
 ution und immersives Storytelling.\n\nDiese Herausforderungen zu beantwor
 ten\, versucht ebenfalls das Forschungsprojekt dwerft – linked film &a
 mp\; tv services\, an dem das Humboldt Institut für Internet und Gesellsc
 haft beteiligt ist.  »dwerft« will in Babelsberg auf diese Herausford
 erungen mit einer offenen\, gemeinsamen Kerntechnologie «Linked Productio
 n Data» antworten.\n\n\n\nVeranstaltungsseite besuchen\n\n\nProgramm Übe
 rsicht\n\n\n\nKosten\n\n\n\nStandard Ticket\n95\,00€\n\n\n\nAnmeldung\nD
 ie Anmeldung ist online über die Veranstaltungsseite möglich.
ATTACH;FMTTYPE=image/jpeg:https://www.hiig.de/wp-content/uploads/2015/10/C
 TP_gruen_png.png
CATEGORIES:Events vor 2018 ohne Titelbild,Themen im Fokus
LOCATION:fx.Center Babelsberg\, August-Bebel-Straße 26\, Potsdam\, 14482\,
  Deutschland
X-APPLE-STRUCTURED-LOCATION;VALUE=URI;X-ADDRESS=August-Bebel-Straße 26\, P
 otsdam\, 14482\, Deutschland;X-APPLE-RADIUS=100;X-TITLE=fx.Center Babelsbe
 rg:geo:0,0
END:VEVENT
BEGIN:VTIMEZONE
TZID:Europe/Berlin
X-LIC-LOCATION:Europe/Berlin
BEGIN:STANDARD
DTSTART:20151025T020000
TZOFFSETFROM:+0200
TZOFFSETTO:+0100
TZNAME:CET
END:STANDARD
END:VTIMEZONE
END:VCALENDAR