BEGIN:VCALENDAR
VERSION:2.0
PRODID:-//wp-events-plugin.com//7.2.3.1//EN
TZID:Europe/Berlin
X-WR-TIMEZONE:Europe/Berlin
BEGIN:VEVENT
UID:47@hiig.de
DTSTART;TZID=Europe/Berlin:20130703T170000
DTEND;TZID=Europe/Berlin:20130703T180000
DTSTAMP:20140117T144003Z
URL:https://www.hiig.de/events/julian-oliver/
SUMMARY:Open Journal Club mit Julian Oliver
DESCRIPTION:Am 3. Juli ist Julian Oliver zu Gast im Journal Club am HIIG.\n
 \nJulian Oliver ist Critical Engineer und Künstler. Seine Projekte wie zu
 m Beispiel The Transparency Grande\, Border Bumping oder Newstweek (Golden
  Nica @Prix Ars Electronica 2011) bieten eine kritische Perspektive auf di
 e Wechselwirkungen zwischen Technologie und Gesellschaft.\nAm Mittwoch\, 3
 . Juli 2013\, gibt Julian Oliver im Kontext von Critical Engineering einen
  Einblick in seine Projekte.\n\nDer Journal Club ist eine wöchentlich sta
 ttfindende Veranstaltung bei der DoktorandInnen und wissenschaftliche Mita
 rbeiterInnen am HIIG gemeinsam interessante Publikationen diskutieren.\nAm
  Mittwoch öffnen wir unsere Türen für ein breiteres Publikum– ihr sei
 d herzlich eingeladen dabei zu sein!\n\nDie Vortrag und die anschließende
  Diskussion finden auf Englisch statt.
CATEGORIES:Exploring Digital Spheres
LOCATION:Ehemalige Institutsräume des HIIG | Raum E27\, Bebelplatz 1\, Ber
 lin\, 10117\, Deutschland
X-APPLE-STRUCTURED-LOCATION;VALUE=URI;X-ADDRESS=Bebelplatz 1\, Berlin\, 101
 17\, Deutschland;X-APPLE-RADIUS=100;X-TITLE=Ehemalige Institutsräume des 
 HIIG | Raum E27:geo:0,0
END:VEVENT
BEGIN:VTIMEZONE
TZID:Europe/Berlin
X-LIC-LOCATION:Europe/Berlin
BEGIN:DAYLIGHT
DTSTART:20130331T030000
TZOFFSETFROM:+0100
TZOFFSETTO:+0200
TZNAME:CEST
END:DAYLIGHT
END:VTIMEZONE
END:VCALENDAR