BEGIN:VCALENDAR
VERSION:2.0
PRODID:-//wp-events-plugin.com//7.2.3.1//EN
TZID:Europe/Berlin
X-WR-TIMEZONE:Europe/Berlin
BEGIN:VEVENT
UID:395@hiig.de
DTSTART;TZID=Europe/Berlin:20170628T120000
DTEND;TZID=Europe/Berlin:20170628T180000
DTSTAMP:20231220T110919Z
URL:https://www.hiig.de/events/iv-interdisziplinaerer-workshop-privacy-dat
 enschutz-surveillance/
SUMMARY:IV. Interdisziplinärer Workshop „Privacy\, Datenschutz & Surveil
 lance“
DESCRIPTION:Hiermit möchten wir Sie ganz herzlich zum vierten interdiszipl
 inären Workshop „Privacy\, Datenschutz &amp\; Surveillance” einladen
 \, der am Mittwoch\, den 28.06.2017\, von 12 bis 18 Uhr am Alexander von H
 umboldt Institut für Internet und Gesellschaft (HIIG) in der Französisch
 en Straße 9\, 10117 Berlin\, stattfinden wird.\nZum Blogpost über den Wo
 rkshop\nAuch mit dem vierten Workshop wollen wir wieder insbesondere junge
 n Wissenschaftler*innen die Gelegenheit bieten\, in einer interdisziplinä
 ren Runde aktuelle Forschungsarbeiten aus dem sehr breiten und diversen Fo
 rschungsfeld Privacy\, Surveillance und Datenschutz vorzustellen und zu di
 skutieren. Wir freuen uns über Aufsatzprojekte und Dissertationsvorhaben\
 , theoretische und empirische Arbeiten\, Analysen ebenso wie Lösungsvorsc
 hläge – und es darf sich ausdrücklich um work in progress handeln. Neb
 en der Diskussion über offene Forschungsfragen soll auf dem Workshop eine
  kritische Reflexion der Prämissen der eigenen Forschung\, der eigenen Th
 eorieschule(n) und der eigenen Disziplin(en) im Vordergrund stehen. Besond
 ers freuen wir uns über Einreichungen von Forscher*innen aus den technisc
 hen Wissenschaften.\n\nSollten Sie Interesse haben\, an der Veranstaltung 
 teilzunehmen\, möchten wir Sie bitten\, bis spätestens Montag\, den 05.0
 6.2017\, unser Anmeldeformular am Ende dieser Seite auszufüllen und dabei
  anzugeben\, ob Sie als Hörer*in oder Redner*in teilnehmen möchten. Redn
 er*innen werden gebeten\, bei ihrer Anmeldung einen Titel und ein erweiter
 tes Abstract (ca. 800 Wörter) des Vortrags\, der max. 15 Minuten dauern s
 ollte\, anzugeben. Gerne können Sie auch Angaben zu Ihren Disziplinen\, I
 nteressengebieten und Forschungsschwerpunkten machen. Innerhalb der grundl
 egenden Thematik sind Sie vollkommen frei\, Ihren Bereich zu wählen und e
 inen Schwerpunkt zu setzen.\n\nDas Workshopprogramm wird allen angemeldete
 n Teilnehmer*innen bis zum 19.06.2017 zugehen.\n\nWir freuen uns sehr auf 
 Ihr Kommen und Ihre Beiträge.\n\nTermine:\n\n 	05.06.2017: Anmeldeschluss
 \n 	05.06.2017: Deadline für die Einreichung der Abstracts\n 	12.06.2017:
  Rückmeldung zur Annahme der Vorschläge\n 	19.06.2017: Programm des Work
 shops\n 	28.06.2017: Workshop\n\nLeider können wir keine Reise- oder Übe
 rnachtungskosten erstatten.\n\nWorkshops in dieser Reihe:\n\n 	Bericht vom
  interdisziplinären Workshop “Privacy\, Datenschutz &amp\; Surveillance
 ” am 04.12.2015\n 	Bericht vom II. Interdisziplinären Workshop “Priva
 cy\, Datenschutz &amp\; Surveillance” am 30.06.2016\n 	Bericht vom III. 
 Interdisziplinären Workshop “Privacy\, Datenschutz &amp\; Surveillance 
 am 09.12.2016\n
CATEGORIES:Events vor 2018 ohne Titelbild,Themen im Fokus
LOCATION:Humboldt Institut für Internet und Gesellschaft\, Französische S
 traße 9\, Berlin\, 10117\, Deutschland
X-APPLE-STRUCTURED-LOCATION;VALUE=URI;X-ADDRESS=Französische Straße 9\, B
 erlin\, 10117\, Deutschland;X-APPLE-RADIUS=100;X-TITLE=Humboldt Institut f
 ür Internet und Gesellschaft:geo:0,0
END:VEVENT
BEGIN:VTIMEZONE
TZID:Europe/Berlin
X-LIC-LOCATION:Europe/Berlin
BEGIN:DAYLIGHT
DTSTART:20170326T030000
TZOFFSETFROM:+0100
TZOFFSETTO:+0200
TZNAME:CEST
END:DAYLIGHT
END:VTIMEZONE
END:VCALENDAR