BEGIN:VCALENDAR
VERSION:2.0
PRODID:-//wp-events-plugin.com//7.2.3.1//EN
TZID:Europe/Berlin
X-WR-TIMEZONE:Europe/Berlin
BEGIN:VEVENT
UID:158@hiig.de
DTSTART;TZID=Europe/Berlin;VALUE=DATE:20141009
DTEND;TZID=Europe/Berlin;VALUE=DATE:20141011
DTSTAMP:20180913T133423Z
URL:https://www.hiig.de/events/internet-governance-actors-technology-conte
 nt-2/
SUMMARY:Internet Governance. Akteure\, Technologie\, Inhalt.
DESCRIPTION:Das Humboldt Institut für Internet und Gesellschaft veranstalt
 ete in Kooperation mit der Humboldt Universität zu Berlin die zweitägige
  Konferenz "Internet Governance. Actors\, Technology\, Content." vom 9. 
 – 10. Oktober in Berlin.\n\nOnly recently\, the Internet Governance Foru
 m in Istanbul\, Turkey dealt with nothing less than the future of Internet
  Governance. The question of how to globally govern the Internet is one of
  the most pressing issues within the field of Internet &amp\; society. The
  Alexander von Humboldt Institute for Internet and Society contributed to 
 this debate by shedding light on Internet Governance from the dimensions o
 f actors\, technology and content.\n\n[photospace ids="19831\,19832\,19833
 \,19834\,19835\,19836\,19837\,19838\,19839\,19840"]\nProgramme\n\n\n\n9 Oc
 tober 2014\nPre-conference\n\n\n17:30 – 19:00\nThoughts on multi-stakeho
 lderism with wine and cheese\n\n\n10 October 2014\nAcademic Symposium\n\n\
 n\n\n09:00 – 10:00\nRegistration\n\n\n10:00 – 11:00\nWelcome Address a
 nd KeynoteWelcome Address Wolfgang Schulz\, Humboldt Institute for Interne
 t and Society\, Germany A short story on how governance came about Jeanett
 e Hofmann\, Humboldt Institute for Internet and Society\, Germany\n\n\n11:
 00 – 12:30\nSession I: ActorsIn the first session\, we want to examine a
 nd discuss the performance of the multi-stakeholder approach. We will part
 icularly focus on the sources of its legitimacy. Ryan Budish\, Berkman Kle
 in Center for Internet &amp\; Society\, USA Dmitry Epstein\, University of
  Illinois at Chicago\, USA Marianne Franklin\, Goldsmiths\, University of 
 London\, UK Francesca Musiani\, Centre for the Sociology of Innovation\, F
 rance\n\n\n12:30 – 13:30\nLunch\n\n\n13:30 – 15:00\nSession II: Techno
 logyIn the second session\, we want to focus on conceptions of technology 
 in governance processes\, especially the "lost in translation" problem and
  the widespread use of black-box delegation. Jan-Philipp Albrecht\, Member
  of the European Parliament\, Belgium Gloria Gonzalez Fuster\, Vrije Unive
 rsiteit Brussel\, Belgium Seda Gürses\, New York University\, USA Björn 
 Scheuermann\, Humboldt-Universität zu Berlin\, Germany\n\n\n15:00 – 15:
 30\nCoffee Break\n\n\n15:30 – 17:00\nSession III: ContentIn the third se
 ssion\, we want to focus on the private actors' ability to control the pro
 duction\, dissemination\, and use of user-generated content. Leonhard Dobu
 sch\, Freie Universität Berlin\, Germany Uta Kohl\, Aberystwyth Universit
 y\, UK Niva Elkin-Koren\, University of Haifa\, Israel Jillian York\, Elec
 tronic Frontier Foundation\, USA\n\n\n17:00 – 18:00\nConcluding Session\
 n\n\n\n\n\n\n\nVenue\n\nThursday\, 09 OctoberHumboldt Institute for Intern
 et and Society Bebelplatz 1\, 10117 Berlin\nFriday\, 10 OctoberHumboldt-Un
 iversität zu Berlin Unter den Linden 6\, Room 2249\, 10117 Berlin\n\n\n\n
 \nSide Events\nThe meeting was preceded by Early Stage Researchers Colloq
 uium workshops in the afternoon of Thursday\, 9 October\, an opportunity f
 or Ph.D. candidates and post-docs to present their work\, to pitch new ide
 as and to discuss new perspectives on current issues of Internet and socie
 ty. This year’s colloquium consisted of two thematically focused tracks
  on 'Pay per pixel' and 'Private information – open debates'.
ATTACH;FMTTYPE=image/jpeg:https://www.hiig.de/wp-content/uploads/2014/07/I
 G_header.png
CATEGORIES:Themen im Fokus
LOCATION:Humboldt-Universität zu Berlin \, Unter den Linden 6\,  Berlin\, 
 10117\, Deutschland
X-APPLE-STRUCTURED-LOCATION;VALUE=URI;X-ADDRESS=Unter den Linden 6\,  Berli
 n\, 10117\, Deutschland;X-APPLE-RADIUS=100;X-TITLE=Humboldt-Universität z
 u Berlin :geo:0,0
END:VEVENT
BEGIN:VTIMEZONE
TZID:Europe/Berlin
X-LIC-LOCATION:Europe/Berlin
BEGIN:DAYLIGHT
DTSTART:20140330T030000
TZOFFSETFROM:+0100
TZOFFSETTO:+0200
TZNAME:CEST
END:DAYLIGHT
END:VTIMEZONE
END:VCALENDAR