BEGIN:VCALENDAR
VERSION:2.0
PRODID:-//wp-events-plugin.com//7.2.3.1//EN
TZID:Europe/Berlin
X-WR-TIMEZONE:Europe/Berlin
BEGIN:VEVENT
UID:87@hiig.de
DTSTART;TZID=Europe/Berlin;VALUE=DATE:20121017
DTEND;TZID=Europe/Berlin;VALUE=DATE:20121019
DTSTAMP:20190220T101138Z
URL:https://www.hiig.de/events/internationale-konferenz-datenschutz-im-21-
 jahrhundert-2/
SUMMARY:Internationale Konferenz: Datenschutz im 21. Jahrhundert
DESCRIPTION:Wie kann und soll Datenschutz und Datensicherheit im digitalen 
 Zeitalter aussehen? Wie können Persönlichkeitsrechte mit Freiheitsrecht
 en in Einklang gebracht werden vor dem Hintergrund rasanter technischer E
 ntwicklungen und damit einhergehender Veränderungen im Nutzungsverhalten
  digitaler Medien? Wie könnte und sollte ein solcher Einklang aussehen\,
  wie organisiert sein? Sollten öffentlicher und privater Datenschutz rec
 htlich auf eine einheitliche Grundlage gestellt werden?\n\nDie Europäisch
 e Union hat dazu im Januar 2012 einen Entwurf für eine Datenschutz-Grund
 verordnung vorgelegt\, welcher die bestehende Richtlinie aus dem Jahr 199
 5 ersetzen soll. Zielsetzung ist es dabei einen unmittelbaren und einheit
 lichen Rechtsrahmen für alle Mitgliedstaaten der EU zu schaffen. Seit se
 iner Veröffentlichung wird dieser Entwurf\, der u.a. Aspekte wie eine str
 iktere Regelungen für datenverarbeitender Unternehmen\, ein erleichterte
 r Zugang zu eigenen personenbezogenen Daten\, ein Recht auf Vergessen sow
 ie auf Datenportabilität enthält sowohl in der Internetgemeinde auch in
  den Institutionen der EU-Mitgliedsstaaten intensiv diskutiert.\n\nIn Zus
 ammenarbeit mit dem Bundesministerium des Innern (BMI) hat das Alexander v
 on Humboldt Institut für Internet und Gesellschaft dazu vom 28. bis 30. 
 August 2012 Workshops zu drei ausgewählten Themenbereichen des Verordnun
 gsentwurfes durchgeführt\, deren Ergebnisse auf einer umfassenden Datensc
 hutzkonferenz am 17. und 18. Oktober 2012 (vollständiges Programm als PDF
 ) unter Beteiligung von Innenminister Hans-Peter Friedrich präsentiert w
 urden. Weitere Informationen zum Themenbereich sowie der Konferenz finden 
 Sie auch auf den folgenden Blogbeiträgen unseres Institutes:\n\n 	Rüdig
 er Schwarz: Datenschutz in Bearbeitung: Das HIIG und die General Data Pro
 tection Regulation\n 	Uta Meier-Hahn\, Julian Staben und Theresa Züger
 : Streit um den Treibstoff des Internets: Zur Debatte um die neue EU-Grun
 dverordnung zum Datenschutz\n\nMaterialien zur Konferenz\nDie folgenden Ma
 terialien wurden vom Bundesministerium des Inneren und den entsprechenden 
 Rednern öffentlich zur Verfügung gestellt:\n\n 	Rede von Innenminister H
 ans-Peter Friedrich\n 	Eröffnungsrede von Ingolf Pernice\, Direktor des H
 umboldt Institutes für Internet und Gesellschaft\n 	Keynote von Staatssek
 retärin Cornelia Rogall-Grothe\n 	Keynote von Dieter Grimm: Verfassungs
 rechtliche Vorgaben für einen modernen Datenschutz\n 	Keynote von Loucas
  Louca\, Minister of Justice and Public Order\, Council of the European 
 Union\n
CATEGORIES:Themen im Fokus
LOCATION:andel's Hotel  Berlin\, Landsberger Allee 106\, Berlin\, 10369\, D
 eutschland
X-APPLE-STRUCTURED-LOCATION;VALUE=URI;X-ADDRESS=Landsberger Allee 106\, Ber
 lin\, 10369\, Deutschland;X-APPLE-RADIUS=100;X-TITLE=andel's Hotel  Berlin
 :geo:0,0
END:VEVENT
BEGIN:VTIMEZONE
TZID:Europe/Berlin
X-LIC-LOCATION:Europe/Berlin
BEGIN:DAYLIGHT
DTSTART:20120325T030000
TZOFFSETFROM:+0100
TZOFFSETTO:+0200
TZNAME:CEST
END:DAYLIGHT
END:VTIMEZONE
END:VCALENDAR