BEGIN:VCALENDAR
VERSION:2.0
PRODID:-//wp-events-plugin.com//7.2.3.1//EN
TZID:Europe/Berlin
X-WR-TIMEZONE:Europe/Berlin
BEGIN:VEVENT
UID:78@hiig.de
DTSTART;TZID=Europe/Berlin:20140326T083000
DTEND;TZID=Europe/Berlin:20140327T171000
DTSTAMP:20190417T120847Z
URL:https://www.hiig.de/events/international-science-2-0-conference/
SUMMARY:International Science 2.0 Conference
DESCRIPTION:Vom 26. bis 27. März 2014 öffnen sich zum ersten Mal die Pfor
 ten der International Science 2.0 Conference. Als Mitglied des Leibniz-Fo
 rschungsverband Science 2.0 ist das Humboldt Institut für Internet und Ge
 sellschaft durch die Doktoranden Benedikt Fecher und Kaja Scheliga\, die 
 beide einen Vortrag halten\, bei der Konferenz vertreten. Die Internationa
 l Science 2.0 Conference bietet Wissenschaftlerinnen und Wissenschaftler a
 us zahlreichen Disziplinen\, wie Sozialwissenschaften\, Geisteswissenschaf
 ten\, Biowissenschaften\, Medienwissenschaft und Kommunikationswissenschaf
 t\, die Möglichkeit gemeinsam mit Praktikern aus wissenschaftlichen Bibli
 otheken den folgenden Fragen nachzugehen: Wie verändert das Internet den 
 Arbeitsalltag von Forschenden? Welche Folgen hat verändertes Forschungs- 
 und Publikationsverhalten für wissenschaftliche Infrastrukturen?\n\n[phot
 ospace columns="1" ids="16693\,16692\,16689\,16690\,16691\,16688"]\n\nFolg
 ende international renommierte Vortragende werden zum Thema Science 2.0 sp
 rechen:\n\n 	Jean-Claude Burgelman\, European Commission\, DG Research &am
 p\; Innovation\, Head of Unit A.6: Science Policy\, Foresight and Data\n 	
 Prof. Dr. Michael Granitzer\, Institut für Medieninformatik\, Universitä
 t Passau\, Deutschland\n 	Prof. Dr. Denis Helic\, Institut für Wissenstec
 hnologien\, Technische Universität Graz\, Österreich\n 	Rene König\, I
 nstitut für Technikfolgenabschätzung und Systemanalyse\, Karlsruhe Inst
 itute of Technology\, Deutschland\n 	Prof. David Nicholas\, CIBER Research
  Ltd.\, UK\n 	Dr. Marco Pistore\, Foundation Bruno Kessler\, Trento\, Ital
 ien\n 	Celina Ramjoué\, Head of Sector "Open Access to Scientific Publica
 tions and Data"\, European Commission\n 	Dr. Urs Schoepflin\, Max Planck I
 nstitut für Wissenschaftsgeschichte\, Deutschland\n 	Prof. Ralph Schröde
 r\, Oxford Internet Institute\, University of Oxford\, UK\n 	Prof. Ursula 
 Schulz\, Hochschule der Angewandten Wissenschaften Hamburg\, Deutschland\n
  	Prof. Paweł Szczęsny\, Biowissenschaften\, Universität Warschau\, Pol
 nische Akademie der Wissenschaften\, Polen\n\nNeben den Vorträgen werden 
 in interaktiven Sessions Mitglieder aus dem Leibniz-Bibliotheksverbund Gop
 ortis und dem Leibniz-Forschungsverbund Science 2.0 ihre Forschungsergebni
 sse vorstellen und diskutieren.\n\nDie Teilnahme an der Veranstaltung erfo
 rdert eine Registrierung\n
ATTACH;FMTTYPE=image/jpeg:https://www.hiig.de/wp-content/uploads/2014/02/s
 cience20_conference_banner_2.jpg
CATEGORIES:Themen im Fokus
LOCATION:Empire Riverside Hotel\, Hamburg\, Bernhard-Nocht-Straße 97\, Ham
 burg\, 20359\, Deutschland
X-APPLE-STRUCTURED-LOCATION;VALUE=URI;X-ADDRESS=Bernhard-Nocht-Straße 97\,
  Hamburg\, 20359\, Deutschland;X-APPLE-RADIUS=100;X-TITLE=Empire Riverside
  Hotel\, Hamburg:geo:0,0
END:VEVENT
BEGIN:VTIMEZONE
TZID:Europe/Berlin
X-LIC-LOCATION:Europe/Berlin
BEGIN:STANDARD
DTSTART:20131027T020000
TZOFFSETFROM:+0200
TZOFFSETTO:+0100
TZNAME:CET
END:STANDARD
END:VTIMEZONE
END:VCALENDAR