BEGIN:VCALENDAR
VERSION:2.0
PRODID:-//wp-events-plugin.com//7.2.3.1//EN
TZID:Europe/Berlin
X-WR-TIMEZONE:Europe/Berlin
BEGIN:VEVENT
UID:282@hiig.de
DTSTART;TZID=Europe/Berlin:20151204T100000
DTEND;TZID=Europe/Berlin:20151204T180000
DTSTAMP:20231220T145642Z
URL:https://www.hiig.de/events/interdisziplinaerer-workshop-privacy-datens
 chutz-surveillance/
SUMMARY:Interdisziplinärer Workshop: Privacy\, Datenschutz & Surveillance
DESCRIPTION:Hiermit möchten wir Sie bzw. Euch gerne zu einem eintägigen o
 ffenen Workshop zu den Themen Privacy\, Datenschutz und Surveillance am Fr
 eitag\, den 4.12.2015\, von 10 bis 18 Uhr am Berliner Humboldt Institut f
 ür Internet und Gesellschaft (HIIG) in der Oberwallstr. 9 (Seminarraum\, 
 2. OG)\, 10117 Berlin einladen.\n\nDer Workshop soll allen jungen Wissensc
 haftler*innen die Gelegenheit geben\, aktuelle Forschunsgvorhaben (z.B. di
 e Dissertation oder kürzere Vortrags- oder Aufsatzprojekte) vorzustellen 
 und zu diskutieren. Dabei darf (und soll) es sich ausdrücklich um work in
  progress handeln. Ziel des Workshops ist es nämlich\, ein Podium für di
 e sich aus der eigenen Forschung ergebenden Fragen und Probleme zu bieten 
 und diese zu diskutieren. Ein besonderes Augenmerk liegt dabei auf den sic
 h aus interdisziplinärer Forschung ergebenden Herausforderungen.\n\nSollt
 en Sie bzw. solltest Du Interesse haben\, an der Veranstaltung teilzunehme
 n\, möchten wir Sie bzw. Dich bitten\, bis zum 8.11.2015 unser Anmeldefor
 mular auszufüllen und dabei anzugeben\, ob Sie bzw. Du als Hörer*in oder
  Redner*in teilnehmen möchtest. Redner*innen werden gebeten\, bei ihrer A
 nmeldung einen Titel und ein kurzes Abstract (max. 400 Wörter) ihres Vort
 rags\, der max. 15 Minuten dauern sollte\, anzugeben. Gerne können Sie bz
 w. Du auch Angaben zu Ihren bzw. Deinen Disziplinen\, Interessengebieten u
 nd Forschungsschwerpunkten machen.\n\nEin finales Programm wird allen ange
 meldeten Teilnehmer*innen am 20.11.2015 zugehen.\n\nWir freuen uns sehr au
 f Ihr und Euer Kommen und Ihre und Eure Beiträge.\n\nDr. Johannes Eichenh
 ofer (Uni Bielefeld)\nJörg Pohle (HIIG Berlin)\n\nTermine:\n- 08.11.2015 
 - Deadline Anmeldung und Einreichung von Vorschlägen\n- 15.11.2015 - Rüc
 kmeldung zur Annahme der Vorschläge\n- 20.11.2015 - Finales Workshopprogr
 amm\n- 04.12.2015 - Workshop\n\nOrt:\nAlexander von Humboldt Institut für
  Internet und Gesellschaft\nOberwallstraße 9\n10117 Berlin\nSeminarraum\,
  2. OG\n\nLeider können wir keine Reise- oder Übernachtungskosten erstat
 ten.
CATEGORIES:Events vor 2018 ohne Titelbild,Themen im Fokus
LOCATION:HIIG am Hausvogteiplatz\, Oberwallstraße 9\, Berlin\, 10117\, Deu
 tschland
X-APPLE-STRUCTURED-LOCATION;VALUE=URI;X-ADDRESS=Oberwallstraße 9\, Berlin\
 , 10117\, Deutschland;X-APPLE-RADIUS=100;X-TITLE=HIIG am Hausvogteiplatz:g
 eo:0,0
END:VEVENT
BEGIN:VTIMEZONE
TZID:Europe/Berlin
X-LIC-LOCATION:Europe/Berlin
BEGIN:STANDARD
DTSTART:20151025T020000
TZOFFSETFROM:+0200
TZOFFSETTO:+0100
TZNAME:CET
END:STANDARD
END:VTIMEZONE
END:VCALENDAR