BEGIN:VCALENDAR
VERSION:2.0
PRODID:-//wp-events-plugin.com//7.2.3.1//EN
TZID:Europe/Berlin
X-WR-TIMEZONE:Europe/Berlin
BEGIN:VEVENT
UID:1286@hiig.de
DTSTART;TZID=Europe/Berlin:20240514T190000
DTEND;TZID=Europe/Berlin:20240514T203000
DTSTAMP:20240612T153421Z
URL:https://www.hiig.de/events/intelligente-staedte-navigieren/
SUMMARY:Rob Kitchin: Wegweiser für die intelligente Stadt
DESCRIPTION:In dieser Ausgabe werden wir über den gleichberechtigten Zugan
 g zu Technologie und Entscheidungsfindung\, soziale Gerechtigkeit und Hand
 lungsfähigkeit aller Bürger*innen in einer intelligenten Stadt diskutier
 en.
ATTACH;FMTTYPE=image/jpeg:https://www.hiig.de/wp-content/uploads/2024/04/B
 anner_Rob-Kitchin-_events-–-4.png
CATEGORIES:Redenreihe: Making sense of digital society
LOCATION:Auditorium Friedrichstraße\, Friedrichstraße 180\, Berlin\, 1011
 7\, Deutschland
X-APPLE-STRUCTURED-LOCATION;VALUE=URI;X-ADDRESS=Friedrichstraße 180\, Berl
 in\, 10117\, Deutschland;X-APPLE-RADIUS=100;X-TITLE=Auditorium Friedrichst
 raße:geo:0,0
END:VEVENT
BEGIN:VTIMEZONE
TZID:Europe/Berlin
X-LIC-LOCATION:Europe/Berlin
BEGIN:DAYLIGHT
DTSTART:20240331T030000
TZOFFSETFROM:+0100
TZOFFSETTO:+0200
TZNAME:CEST
END:DAYLIGHT
END:VTIMEZONE
END:VCALENDAR