BEGIN:VCALENDAR
VERSION:2.0
PRODID:-//wp-events-plugin.com//7.2.3.1//EN
TZID:Europe/Berlin
X-WR-TIMEZONE:Europe/Berlin
BEGIN:VEVENT
UID:991@hiig.de
DTSTART;TZID=Europe/Berlin;VALUE=DATE:20221125
DTEND;TZID=Europe/Berlin;VALUE=DATE:20221126
DTSTAMP:20230129T124711Z
URL:https://www.hiig.de/events/infrastructures-of-autonomy/
SUMMARY:Infrastrukturen der Autonomie I Konferenz
DESCRIPTION:Diese Konferenz erörtert die Bedingungen\, Strukturen und Bezi
 ehungen\, die sowohl menschliche als auch maschinelle Autonomie ausmachen.
  
ATTACH;FMTTYPE=image/jpeg:https://www.hiig.de/wp-content/uploads/2022/05/T
 agung-November-Infrastrukturen-der-Autonomie.png
LOCATION:Humboldt Institut für Internet und Gesellschaft\, Französische S
 traße 9\, Berlin\, 10117\, Deutschland
X-APPLE-STRUCTURED-LOCATION;VALUE=URI;X-ADDRESS=Französische Straße 9\, B
 erlin\, 10117\, Deutschland;X-APPLE-RADIUS=100;X-TITLE=Humboldt Institut f
 ür Internet und Gesellschaft:geo:0,0
END:VEVENT
BEGIN:VTIMEZONE
TZID:Europe/Berlin
X-LIC-LOCATION:Europe/Berlin
BEGIN:STANDARD
DTSTART:20221030T020000
TZOFFSETFROM:+0200
TZOFFSETTO:+0100
TZNAME:CET
END:STANDARD
END:VTIMEZONE
END:VCALENDAR