BEGIN:VCALENDAR
VERSION:2.0
PRODID:-//wp-events-plugin.com//7.2.3.1//EN
TZID:Europe/Berlin
X-WR-TIMEZONE:Europe/Berlin
BEGIN:VEVENT
UID:231@hiig.de
DTSTART;TZID=Europe/Berlin:20150421T170000
DTEND;TZID=Europe/Berlin:20150421T203000
DTSTAMP:20231220T105720Z
URL:https://www.hiig.de/events/hiig-roundtable-vcs-x-startups-perspektiven
 wechsel-auf-geschaftsmodelle-und-deren-potenziale/
SUMMARY:HIIG-Roundtable – VCs X Startups: Perspektivenwechsel auf Geschä
 ftsmodelle und deren Potenziale
DESCRIPTION:Nach dem letzten Roundtable zum Thema Finanzierungsstrategien n
 ach Phasen und Geschäftsmodellen im Dezember 2014 gehen wir nun in die n
 ächste Runde\, mit einem Roundtable zu Neuen Perspektiven auf das Geschä
 ftsmodell und dessen Veränderungen.\n\nHierzu bringt die Doktorandin Mart
 ina Dopfer mit ihrem Forschungsfokus Geschäftsmodellentwicklung von Start
 ups\, zugehörig zur Forschergruppe Innovation und Entrepreneurship des HI
 IG\, in einem geschlossenen Setting namhafte Business Angels und VCs mit a
 usgewählten Startups zusammen. Ziel ist es die Herausforderungen und Pote
 nziale der jeweiligen Geschäftsmodelle zu beleuchten.\n\nZusätzlich werd
 en Impulsvorträge helfen\, Einblicke in die Analyse von Geschäftsmodelle
 n aus VC-Sicht zu bekommen. Die anschließende Business Model Innovation J
 ourney dient der intensiven und interaktiven Betrachtung der Geschäftsmod
 elle in kleinen Gruppen\, um potenzielle Weiterentwicklungsmöglichkeiten 
 zu erkunden.\n\nTeilnehmende ExpertInnen: Moritz Poewe (Partner Paua Ventu
 res\, ex-CTO Nachtagenten)\, David Rosskamp (VC Earlybird\, Mentor Seedcam
 p)\, Dagmar Bottenbruch (Angel Investor und Harvard Business School Alumni
 )\, Frauke Mispagel (Managing Director Axel Springer Plug&Play).\n\nTeilne
 hmende Startups: Blinkist\, Blogfoster\, Cringle\, Flexperto\, Gamewheel\,
  Mimi Hearing Technologies\, SatoshiPay\, Stilnest\, TapDeck\, Truffls\, q
 Learning\, Vigour.\n\n(Geschlossene Veranstaltung\, Teilnahme nur mit Einl
 adung)\n
CATEGORIES:Themen im Fokus
LOCATION:HIIG am Hausvogteiplatz\, Oberwallstraße 9\, Berlin\, 10117\, Deu
 tschland
X-APPLE-STRUCTURED-LOCATION;VALUE=URI;X-ADDRESS=Oberwallstraße 9\, Berlin\
 , 10117\, Deutschland;X-APPLE-RADIUS=100;X-TITLE=HIIG am Hausvogteiplatz:g
 eo:0,0
END:VEVENT
BEGIN:VTIMEZONE
TZID:Europe/Berlin
X-LIC-LOCATION:Europe/Berlin
BEGIN:DAYLIGHT
DTSTART:20150329T030000
TZOFFSETFROM:+0100
TZOFFSETTO:+0200
TZNAME:CEST
END:DAYLIGHT
END:VTIMEZONE
END:VCALENDAR