BEGIN:VCALENDAR
VERSION:2.0
PRODID:-//wp-events-plugin.com//7.2.3.1//EN
TZID:Europe/Berlin
X-WR-TIMEZONE:Europe/Berlin
BEGIN:VEVENT
UID:124@hiig.de
DTSTART;TZID=Europe/Berlin:20120419T170000
DTEND;TZID=Europe/Berlin:20120419T200000
DTSTAMP:20170126T122943Z
URL:https://www.hiig.de/events/hiig-im-bundestag/
SUMMARY:HIIG im Bundestag
DESCRIPTION:\n\nDas Internet bringt eine Vielzahl von Möglichkeiten\, aber
  auch von Herausforderungen für die Entwicklung unserer Gesellschaft mit 
 sich. Im vergangenen Sommer hat sich deshalb an der Humboldt-Universität 
 Berlin das Alexander von Humboldt Institut für Internet und Gesellschaft 
 gegründet. Es widmet sich der transdisziplinären Forschung zu Fragen des
  Internets und der Informationsgesellschaft.\n\n\n\n\n Webseite besuchen\n
 Offizielle Webseite des Humboldt Institut für Internet und Gesellschaft\n
 \n\n\n\nDas Institut erreichte innerhalb kurzer Zeit eine beachtliche Medi
 enprominenz\, nicht zuletzt durch die finanzielle und ideelle Unterstützu
 ng des amerikanischen Medienkonzerns Google während der Startphase. Kriti
 ker werfen der Institution aus diesem Grund vor\, als Lobbyinstrument für
  den US-Internetgiganten zu dienen. Um diese und andere Fragen zu diskutie
 ren\,besucht das HIIG den Bundestag in der Veranstaltung\n\n«DAVP meets H
 IIG»\nDas Alexander von Humboldt Institut für Internet und Gesellschaft 
 –\nseine Ziele und Forschungsaktivitäten\n\nDonnerstag\, 19. April 2012
 \,\nab 17.00 Uhr\nPaul-Löbe-Haus\, Saal 4.200\n\nWir freuen uns auf eine 
 spannende Informations- und Diskussionsrunde und laden alle Interessierten
  herzlich dazu ein.\nInteressierte ohne Hausausweis des Bundestags können
  sich per E-Mail anmelden bei: claus.hinterleitner@bundestag.de (Bitte Vor
 namen\, Namen und Geburtsdatum angeben. Sie können dann über den Eingang
  Paul-Löbe-Haus Süd gegenüber dem Reichstagsgebäude zur Veranstaltung 
 kommen).\n\n
CATEGORIES:Themen im Fokus
LOCATION:Ehemalige Institutsräume des HIIG | Raum E27\, Bebelplatz 1\, Ber
 lin\, 10117\, Deutschland
X-APPLE-STRUCTURED-LOCATION;VALUE=URI;X-ADDRESS=Bebelplatz 1\, Berlin\, 101
 17\, Deutschland;X-APPLE-RADIUS=100;X-TITLE=Ehemalige Institutsräume des 
 HIIG | Raum E27:geo:0,0
END:VEVENT
BEGIN:VTIMEZONE
TZID:Europe/Berlin
X-LIC-LOCATION:Europe/Berlin
BEGIN:DAYLIGHT
DTSTART:20120325T030000
TZOFFSETFROM:+0100
TZOFFSETTO:+0200
TZNAME:CEST
END:DAYLIGHT
END:VTIMEZONE
END:VCALENDAR